BEGIN:VCALENDAR
VERSION:2.0
PRODID:-//Reach LA Angels - ECPv6.15.20//NONSGML v1.0//EN
CALSCALE:GREGORIAN
METHOD:PUBLISH
X-ORIGINAL-URL:https://reachlaangels.com
X-WR-CALDESC:Events for Reach LA Angels
REFRESH-INTERVAL;VALUE=DURATION:PT1H
X-Robots-Tag:noindex
X-PUBLISHED-TTL:PT1H
BEGIN:VTIMEZONE
TZID:America/Los_Angeles
BEGIN:DAYLIGHT
TZOFFSETFROM:-0800
TZOFFSETTO:-0700
TZNAME:PDT
DTSTART:20250309T100000
END:DAYLIGHT
BEGIN:STANDARD
TZOFFSETFROM:-0700
TZOFFSETTO:-0800
TZNAME:PST
DTSTART:20251102T090000
END:STANDARD
BEGIN:DAYLIGHT
TZOFFSETFROM:-0800
TZOFFSETTO:-0700
TZNAME:PDT
DTSTART:20260308T100000
END:DAYLIGHT
BEGIN:STANDARD
TZOFFSETFROM:-0700
TZOFFSETTO:-0800
TZNAME:PST
DTSTART:20261101T090000
END:STANDARD
BEGIN:DAYLIGHT
TZOFFSETFROM:-0800
TZOFFSETTO:-0700
TZNAME:PDT
DTSTART:20270314T100000
END:DAYLIGHT
BEGIN:STANDARD
TZOFFSETFROM:-0700
TZOFFSETTO:-0800
TZNAME:PST
DTSTART:20271107T090000
END:STANDARD
END:VTIMEZONE
BEGIN:VEVENT
DTSTART;TZID=America/Los_Angeles:20260501T200000
DTEND;TZID=America/Los_Angeles:20260501T233000
DTSTAMP:20260424T185850
CREATED:20260401T132121Z
LAST-MODIFIED:20260422T041311Z
UID:10000466-1777665600-1777678200@reachlaangels.com
SUMMARY:I Wanna Dance WITH SOMEBODY A Whitney Houston Tribute
DESCRIPTION:Alli is the star of her acclaimed Whitney Houston tribute show\, featuring The Allikats!\n\n\nAlli Starr is an International Recording Artist\, award-winning singer\, and dynamic live performer known for her powerful vocals and captivating stage presence. Based in Las Vegas\, she has performed on stages around the world\, sharing the spotlight with renowned artists and headlining her own shows internationally. Alli is the star of her acclaimed Whitney Houston tribute show\, delivering heartfelt performances that honor one of music’s greatest voices with authenticity\, elegance\, and soul. \n  \nHer latest single\, Samba Love\, has earned Billboard recognition and reached #9 on the Smooth Jazz charts\, further establishing her versatility and global appeal. With roots in gospel and a passion for storytelling through music\, Alli Starr continues to inspire and connect with audiences worldwide.
URL:https://reachlaangels.com/event-2/i-wanna-dance-with-somebody-a-whitney-houston-tribute/
LOCATION:View \, Music Bar & Lounge\, 1431 West Knox Street\, Torrance\, CA\, 90501\, United States
ATTACH;FMTTYPE=image/jpeg:https://reachlaangels.com/wp-content/uploads/2026/04/17db3b0283a5b41a786b34ffd5f2c182.jpg
END:VEVENT
BEGIN:VEVENT
DTSTART;TZID=America/Los_Angeles:20260515T200000
DTEND;TZID=America/Los_Angeles:20260515T213000
DTSTAMP:20260424T185850
CREATED:20260402T143835Z
LAST-MODIFIED:20260424T093721Z
UID:10000496-1778875200-1778880600@reachlaangels.com
SUMMARY:Smooth Jazz Hit Makers & Legends Series
DESCRIPTION:An unforgettable night of Smooth Jazz featuring hit makers Nils\, Paula Atherton & Johnny Britt live in concert.\n\n\nGet ready for an unforgettable evening of world-class Smooth Jazz as the Hit Makers & Legends Series\, presented by Chuck Dennis\, brings three incredible artists to the stage for one extraordinary night of live music. \nJoin us at View Music Bar in Torrance for an electrifying performance featuring internationally acclaimed guitarist Nils\, dynamic saxophonist Paula Atherton\, and the soulful vocals and trumpet stylings of Johnny Britt. Each artist brings their own signature sound\, chart-topping hits\, and captivating stage presence to create a powerful musical experience. \nFrom smooth grooves and soulful melodies to high-energy jazz rhythms\, this concert will take you on a journey through some of the best sounds in contemporary jazz. Whether you’re a longtime fan of smooth jazz or simply looking for a sophisticated night out with great music\, this event promises an atmosphere filled with energy\, passion\, and unforgettable performances. \nCome early\, enjoy the vibe\, and settle in for a night of incredible musicianship\, great company\, and the timeless sound of Smooth Jazz performed by three of the genre’s standout artists.
URL:https://reachlaangels.com/event-2/smooth-jazz-hit-makers-legends-series/
LOCATION:View \, Music Bar & Lounge\, 1431 West Knox Street\, Torrance\, CA\, 90501\, United States
ATTACH;FMTTYPE=image/jpeg:https://reachlaangels.com/wp-content/uploads/2026/04/2ee87a942724bbd622f7e560352c490d-scaled.jpg
END:VEVENT
BEGIN:VEVENT
DTSTART;TZID=America/Los_Angeles:20260612T200000
DTEND;TZID=America/Los_Angeles:20260612T233000
DTSTAMP:20260424T185850
CREATED:20260401T132024Z
LAST-MODIFIED:20260401T134237Z
UID:10000465-1781294400-1781307000@reachlaangels.com
SUMMARY:Experience The Magnetic Sultry Sounds of Lina Loi
DESCRIPTION:Lina Loi is a dynamic singer-songwriter whose sound seamlessly blends jazz\, funk\, Latin\, and soul creating a rich and captivating experience\n\n\nLina Loi is a dynamic singer-songwriter whose sound seamlessly blends jazz\, funk\, Latin\, and soul\, creating a rich and captivating musical experience that resonates with diverse audiences. Known for her sultry vocals\, heartfelt delivery\, and magnetic stage presence\, Lina brings both elegance and energy to every performance. \nWith a style rooted in classic soul traditions and infused with modern influences\, Lina Loi has developed a signature sound that is both timeless and refreshing. Her music reflects authenticity\, passion\, and storytelling—drawing listeners in with every note and lyric. \nWhether performing intimate sets or headlining vibrant venues\, she commands the stage with confidence\, grace\, and undeniable talent. \n🔥 New Music Alert! Lina Loi’s brand-new single “Still Got It” drops March 27\, 2026\, available on all streaming platforms. This highly anticipated release showcases her signature blend of soul and groove\, further solidifying her place as one of the most exciting emerging voices in today’s contemporary music scene. \n🎤 Don’t miss her upcoming show at The View Music Bar — an unforgettable night of live music\, energy\, and vibe.
URL:https://reachlaangels.com/event-2/experience-the-magnetic-sultry-sounds-of-lina-loi/
LOCATION:View \, Music Bar & Lounge\, 1431 West Knox Street\, Torrance\, CA\, 90501\, United States
ATTACH;FMTTYPE=image/jpeg:https://reachlaangels.com/wp-content/uploads/2026/04/5abc952633395098c31f8ab235f8bda8.jpg
END:VEVENT
BEGIN:VEVENT
DTSTART;TZID=America/Los_Angeles:20260710T200000
DTEND;TZID=America/Los_Angeles:20260710T233000
DTSTAMP:20260424T185850
CREATED:20260328T054505Z
LAST-MODIFIED:20260401T071000Z
UID:10000392-1783713600-1783726200@reachlaangels.com
SUMMARY:Leuzinger High School Summer Jam — Olympians\, Alumni & Community Vibes at View Music Bar
DESCRIPTION:  \n\n🎉 Event Spotlight: Leuzinger High School Summer Jam — Olympians\, Alumni & Community Vibes at View Music Bar\nA High‑Energy Summer Kickoff for the Olympian Family\nGet ready to launch summer with pure energy\, nostalgia\, and Leuzinger pride. The Leuzinger High School Summer Jam is bringing Olympians\, alumni\, and the community together for a night packed with music\, memories\, and nonstop good vibes. Hosted by Chuck Dennis & The LEU House\, this celebration is all about reconnecting\, representing\, and reminding the South Bay how Leuzinger shows up. \nWith DJ Twin on the decks and a room full of Olympians ready to turn up\, this is the kind of night that feels like a reunion\, a block party\, and a summer kickoff all in one. \n\n🎶 The Vibe: Music\, Nostalgia & Community Energy\nExpect a night filled with: \n\nHigh‑energy music from DJ Twin\nAlumni reconnecting and celebrating\nA vibrant\, grown‑folks atmosphere\nGood food\, good drinks\, and even better company\nThat unmistakable Leuzinger spirit\n\nWhether you graduated in the 80s\, 90s\, 2000s\, or just last year — this is your night to represent. \n\n📍 Venue Highlight: View Music Bar — The South Bay’s Newest Hot Spot\nLocated in Torrance\, View Music Bar continues to shine as the go‑to destination for live music\, community events\, and grown‑folks nightlife. With great food\, craft cocktails\, and a lively crowd\, it’s the perfect home for a Leuzinger takeover. \n$20 per person food & beverage minimum\n👉🏾 Eventbrite Tickets \nFor birthdays and table reservations:\n📞 (818) 984‑4871 \n\n🎤 Event Producer Spotlight\nThis celebration is powered by Chuck Dennis & The LEU House\, two forces dedicated to uplifting the community\, honoring Olympian pride\, and creating unforgettable experiences. Their commitment to bringing people together is exactly why this Summer Jam is set to be a highlight of the season. \n\n✨ Why You Need to Be There\nThis isn’t just another event — it’s a moment. A chance to: \n\nReconnect with old friends\nCelebrate Leuzinger legacy\nKick off summer with real energy\nSupport community‑driven events\nDance\, laugh\, and make new memories\n\nIf you’re an Olympian\, you already know — when Leuzinger shows up\, we show OUT. \n\n👉 Explore More Events\nLooking for more Black & Brown community events across LA\, the South Bay\, and the IE?\nWe’ve got you covered. \nCheck out more events 👉🏾 Reach LA Angels Events\nPublish your event directly on our calendar — free for the community \n\nPublished by Erica “EMissyK” Lindsay – Reach LA Angels\nYour Voice • Your Vibe • Your Event
URL:https://reachlaangels.com/event-2/leuzinger-high-school-alumni-summer-jam/
LOCATION:View \, Music Bar & Lounge\, 1431 West Knox Street\, Torrance\, CA\, 90501\, United States
CATEGORIES:Nightlife & Social Events,South Bay Events
ATTACH;FMTTYPE=image/jpeg:https://reachlaangels.com/wp-content/uploads/2026/03/70a8974db4602de737617380e4307034.jpg
END:VEVENT
BEGIN:VEVENT
DTSTART;TZID=America/Los_Angeles:20260711T200000
DTEND;TZID=America/Los_Angeles:20260711T233000
DTSTAMP:20260424T185850
CREATED:20260328T054544Z
LAST-MODIFIED:20260401T064249Z
UID:10000393-1783800000-1783812600@reachlaangels.com
SUMMARY:View Music Bar: Frank McComb Birthday Bash ft. David P. Stevens
DESCRIPTION:  \n\n🎶 Frank McComb Birthday Bash ft. David P. Stevens — A Soul‑Drenched Night at View Music Bar\nGet ready\, South Bay — we’re turning Torrance into the grown‑folks groove capital for one unforgettable night. Frank McComb is celebrating his birthday the only way he knows how: with pure soul\, live musicianship\, and a stage full of magic. And he’s bringing the incomparable David P. Stevens with him to set the room on fire. \nThis is the kind of night where the vocals are real\, the musicianship is elite\, and the vibe is strictly for people who appreciate grown\, sexy\, soulful artistry. \n\n✨ What You’re Walking Into\nTwo powerhouses. One stage. Zero misses. \nFrank McComb’s buttery‑smooth blend of soul\, jazz\, and funk meets David P. Stevens’ electrifying guitar work — creating a musical chemistry that hits you right in the chest. Expect: \n\nSoul‑soaked ballads\nFunky grooves that make your shoulders move\nJazz runs that remind you why live music still matters\nA room full of people who came to feel something\n\nThis isn’t just a show — it’s a celebration\, a vibe\, and a full‑on musical experience. \n\n✨ The Venue: View Music Bar\nTorrance’s newest hot spot is quickly becoming the home for real musicians and real music lovers. Great food\, craft cocktails\, and a crowd that knows how to show love — it’s the perfect backdrop for a birthday bash with this level of talent. \n📍 View Music Bar – Torrance\, CA\n🕖 Doors: 7 PM\n🎵 Show: 8 PM \n\n✨ Pull Up & Celebrate\nCome dressed to vibe\, ready to sing\, sway\, and celebrate one of the most gifted voices of our time. This birthday party is about to be one for the books. \n  \n✨ Stay Connected with Reach LA Angels\nLooking for more Black & Brown events across Los Angeles?\nWe spotlight the concerts\, festivals\, comedy shows\, and cultural moments that keep our city moving.\n👉 Explore more events at ReachLAAngels.com\n👉 Publish your event & get seen by the community 👉🏾 Reach LA Angels Events
URL:https://reachlaangels.com/event-2/frank-mccomb-david-p-stevens/
LOCATION:View \, Music Bar & Lounge\, 1431 West Knox Street\, Torrance\, CA\, 90501\, United States
CATEGORIES:Live Music & Concerts,Nightlife & Social Events,South Bay Events
ATTACH;FMTTYPE=image/jpeg:https://reachlaangels.com/wp-content/uploads/2026/03/3f62f4c1c44f044f82da2daab02f0f3e.jpg
END:VEVENT
BEGIN:VEVENT
DTSTART;TZID=America/Los_Angeles:20260718T200000
DTEND;TZID=America/Los_Angeles:20260718T233000
DTSTAMP:20260424T185850
CREATED:20260328T054622Z
LAST-MODIFIED:20260401T065529Z
UID:10000394-1784404800-1784417400@reachlaangels.com
SUMMARY:Rob Zinn & Andrew Neu Live at View Music Bar
DESCRIPTION:  \n\n🎷 Event Spotlight: Rob Zinn & Andrew Neu Live at View Music Bar — A Smooth Jazz Takeover in the South Bay\nA Night of World‑Class Jazz\, Energy & Pure Live Music Magic\nTorrance\, get ready — because Rob Zinn and Andrew Neu are about to turn View Music Bar into the smooth‑jazz capital of the South Bay. Two jazz greats. One stage. Endless vibes. This is the kind of night grown‑folks circle on the calendar and show up for in style. \n\n🎺 Meet the Artists: Powerhouse Jazz\, Real Musicianship\nRob Zinn — Trumpet Legend\nKnown for his soulful tone\, bold stage presence\, and contemporary jazz flavor\, Rob Zinn brings the kind of trumpet artistry that hits you right in the chest. Smooth when he wants to be\, funky when he needs to be — he’s the definition of a musician’s musician. \nAndrew Neu — Saxophone Master\nAndrew Neu’s dynamic sax stylings blend soul\, jazz\, and high‑energy performance into one unforgettable sound. His solos glide\, his grooves hit\, and his chemistry with Rob Zinn is the kind of magic you only get from seasoned pros. \nTogether\, they deliver a musical experience that’s rich\, vibrant\, and full of life — the kind of show that reminds you why live jazz still reigns supreme. \n\n🎶 The Vibe: Smooth Jazz Meets South Bay Energy\nExpect a night filled with: \n\nSoulful melodies\nFunky grooves\nContemporary jazz rhythms\nUnforgettable solos\nA crowd that knows good music when they hear it\n\nWhether you’re a longtime jazz lover or just looking for a night out with real musicians and real energy\, this show is the move. \n\n📍 Venue Highlight: View Music Bar — Torrance’s Newest Live Music Hotspot\nView Music Bar is quickly becoming the South Bay’s go‑to destination for live music lovers. With its intimate layout\, great acoustics\, delicious food\, and craft cocktails\, it’s the perfect home for a night of smooth jazz and good vibes. \nDoors open at 7 PM | Show starts at 8 PM\n$20 per person food & beverage minimum 👉🏾 Eventbrite Tickets \nCome early\, grab a drink\, and settle in — because once the music starts\, it’s a full vibe. \n\n🎤 Event Producer Spotlight\nThis unforgettable night is brought to you by producers who know how to curate real talent and deliver high‑quality live music experiences. Their commitment to bringing world‑class musicians to the South Bay is exactly why nights like this feel so special. \n\n✨ Don’t Miss Out\nIf you love smooth jazz\, live musicianship\, and grown‑folks energy\, this is your night. Bring a friend\, bring your partner\, or roll solo — just don’t miss it. \n\n👉 Explore More Events\nLooking for more Black & Brown events across LA\, the South Bay\, and the IE?\nWe’ve got you covered. \nCheck out more events here 👉🏾Reach LA Angels Events\nPublish your event directly on our calendar — free for the community \n\nPublished by Erica “EMissy” Lindsay – Reach LA Angels\nYour Voice • Your Vibe • Your Event
URL:https://reachlaangels.com/event-2/rob-zinn-and-andrew-neu-live-at-view-music-bar/
LOCATION:View \, Music Bar & Lounge\, 1431 West Knox Street\, Torrance\, CA\, 90501\, United States
CATEGORIES:Live Music & Concerts,Nightlife & Social Events,South Bay Events
ATTACH;FMTTYPE=image/jpeg:https://reachlaangels.com/wp-content/uploads/2026/03/595b7be121fc4834a4e0f8f18d7a7cd3.jpg
END:VEVENT
END:VCALENDAR