BEGIN:VCALENDAR
VERSION:2.0
PRODID:-//Reach LA Angels - ECPv6.15.20//NONSGML v1.0//EN
CALSCALE:GREGORIAN
METHOD:PUBLISH
X-WR-CALNAME:Reach LA Angels
X-ORIGINAL-URL:https://reachlaangels.com
X-WR-CALDESC:Events for Reach LA Angels
REFRESH-INTERVAL;VALUE=DURATION:PT1H
X-Robots-Tag:noindex
X-PUBLISHED-TTL:PT1H
BEGIN:VTIMEZONE
TZID:America/Los_Angeles
BEGIN:DAYLIGHT
TZOFFSETFROM:-0800
TZOFFSETTO:-0700
TZNAME:PDT
DTSTART:20250309T100000
END:DAYLIGHT
BEGIN:STANDARD
TZOFFSETFROM:-0700
TZOFFSETTO:-0800
TZNAME:PST
DTSTART:20251102T090000
END:STANDARD
BEGIN:DAYLIGHT
TZOFFSETFROM:-0800
TZOFFSETTO:-0700
TZNAME:PDT
DTSTART:20260308T100000
END:DAYLIGHT
BEGIN:STANDARD
TZOFFSETFROM:-0700
TZOFFSETTO:-0800
TZNAME:PST
DTSTART:20261101T090000
END:STANDARD
BEGIN:DAYLIGHT
TZOFFSETFROM:-0800
TZOFFSETTO:-0700
TZNAME:PDT
DTSTART:20270314T100000
END:DAYLIGHT
BEGIN:STANDARD
TZOFFSETFROM:-0700
TZOFFSETTO:-0800
TZNAME:PST
DTSTART:20271107T090000
END:STANDARD
END:VTIMEZONE
BEGIN:VEVENT
DTSTART;TZID=America/Los_Angeles:20260420T080000
DTEND;TZID=America/Los_Angeles:20260420T170000
DTSTAMP:20260424T185735
CREATED:20260401T132540Z
LAST-MODIFIED:20260401T134512Z
UID:10000467-1776672000-1776704400@reachlaangels.com
SUMMARY:Beyond the Beauty Aisle: From Consumer Choices to Community Change
DESCRIPTION:Join Black Women for Wellness for a day centered on education\, advocacy\, and clean beauty at our 2nd Annual Beauty Justice Conference!\n\n\nBeyond the Beauty Aisle: From Consumer Choices to Community Change—Justice Begins With Us \nThis year\, join us for an empowering event focused on beauty and justice for Black women. While the clean beauty movement is growing\, access to safe products remains unequal. Black women and girls face disproportionate exposure to harmful chemicals in personal care products. Join us as we learn\, heal\, and take action—because when Black women lead\, beauty and justice follow! \nThe conference will be held in person at The California Endowment in Los Angeles\, California. Our tickets are completely free of cost to the community. Breakfast\, lunch\, and refreshments will be served throughout the day.
URL:https://reachlaangels.com/event-2/beyond-the-beauty-aisle-from-consumer-choices-to-community-change/
LOCATION:The California Endowment\, 1000 Alameda Street\, Los Angeles\, CA\, 90012\, United States
ATTACH;FMTTYPE=image/jpeg:https://reachlaangels.com/wp-content/uploads/2026/04/571095febec006568a5af5862f0bb25f-scaled.jpg
END:VEVENT
END:VCALENDAR