BEGIN:VCALENDAR
VERSION:2.0
PRODID:-//Reach LA Angels - ECPv6.15.20//NONSGML v1.0//EN
CALSCALE:GREGORIAN
METHOD:PUBLISH
X-ORIGINAL-URL:https://reachlaangels.com
X-WR-CALDESC:Events for Reach LA Angels
REFRESH-INTERVAL;VALUE=DURATION:PT1H
X-Robots-Tag:noindex
X-PUBLISHED-TTL:PT1H
BEGIN:VTIMEZONE
TZID:America/Los_Angeles
BEGIN:DAYLIGHT
TZOFFSETFROM:-0800
TZOFFSETTO:-0700
TZNAME:PDT
DTSTART:20250309T100000
END:DAYLIGHT
BEGIN:STANDARD
TZOFFSETFROM:-0700
TZOFFSETTO:-0800
TZNAME:PST
DTSTART:20251102T090000
END:STANDARD
BEGIN:DAYLIGHT
TZOFFSETFROM:-0800
TZOFFSETTO:-0700
TZNAME:PDT
DTSTART:20260308T100000
END:DAYLIGHT
BEGIN:STANDARD
TZOFFSETFROM:-0700
TZOFFSETTO:-0800
TZNAME:PST
DTSTART:20261101T090000
END:STANDARD
BEGIN:DAYLIGHT
TZOFFSETFROM:-0800
TZOFFSETTO:-0700
TZNAME:PDT
DTSTART:20270314T100000
END:DAYLIGHT
BEGIN:STANDARD
TZOFFSETFROM:-0700
TZOFFSETTO:-0800
TZNAME:PST
DTSTART:20271107T090000
END:STANDARD
END:VTIMEZONE
BEGIN:VEVENT
DTSTART;TZID=America/Los_Angeles:20260419T153000
DTEND;TZID=America/Los_Angeles:20260419T180000
DTSTAMP:20260424T173108
CREATED:20260413T023908Z
LAST-MODIFIED:20260413T023908Z
UID:10000507-1776612600-1776621600@reachlaangels.com
SUMMARY:Los Angeles Indian Dance Fest 2026 Youth Edition.
DESCRIPTION:Join us at the LA Youth Dance Fest — where young artists light up the stage with creativity and joy.\n\n\nWHAT: Los Angeles Indian Dance Fest 2026 Youth Edition. \n \nJoin us at the LA Youth Dance Fest —  \nwhere young artists light up the stage with creativity and joy. \nStep in\, shine bright\, and celebrate the rhythm of our vibrant youth community. \n \nWHO: \nRaaga Mahesh disciple of GURU Viji Prakash (Bharathanatyam) \nAnanya Joseph GURU Sushma Mohan (Bharathanatyam) \nMeera Suresh disciple of GURU Navia Natarajan (Bharathanatyam)  \nMaanvi Dhadoti Guru Rukmani Mehta (Kathak ) \nVarnika Bhat Guru Rukmani Mehta (Kathak) \n \nWHEN: \nSunday 3:30 pm April 19th  \nTaxco Theater  7242 Owensmouth Ave\, Canoga Park\, CA 91303 \n \nTICKETS: \nEntry by donation. Register here 
URL:https://reachlaangels.com/event-2/los-angeles-indian-dance-fest-2026-youth-edition/
LOCATION:Taxco Theatre\, 7242 Owensmouth Avenue\, Los Angeles\, CA\, 91303\, United States
ATTACH;FMTTYPE=image/jpeg:https://reachlaangels.com/wp-content/uploads/2026/04/194c2778a0e967703507e56607f4cbb2.jpg
END:VEVENT
END:VCALENDAR