BEGIN:VCALENDAR
VERSION:2.0
PRODID:-//Reach LA Angels - ECPv6.15.20//NONSGML v1.0//EN
CALSCALE:GREGORIAN
METHOD:PUBLISH
X-ORIGINAL-URL:https://reachlaangels.com
X-WR-CALDESC:Events for Reach LA Angels
REFRESH-INTERVAL;VALUE=DURATION:PT1H
X-Robots-Tag:noindex
X-PUBLISHED-TTL:PT1H
BEGIN:VTIMEZONE
TZID:America/Los_Angeles
BEGIN:DAYLIGHT
TZOFFSETFROM:-0800
TZOFFSETTO:-0700
TZNAME:PDT
DTSTART:20250309T100000
END:DAYLIGHT
BEGIN:STANDARD
TZOFFSETFROM:-0700
TZOFFSETTO:-0800
TZNAME:PST
DTSTART:20251102T090000
END:STANDARD
BEGIN:DAYLIGHT
TZOFFSETFROM:-0800
TZOFFSETTO:-0700
TZNAME:PDT
DTSTART:20260308T100000
END:DAYLIGHT
BEGIN:STANDARD
TZOFFSETFROM:-0700
TZOFFSETTO:-0800
TZNAME:PST
DTSTART:20261101T090000
END:STANDARD
BEGIN:DAYLIGHT
TZOFFSETFROM:-0800
TZOFFSETTO:-0700
TZNAME:PDT
DTSTART:20270314T100000
END:DAYLIGHT
BEGIN:STANDARD
TZOFFSETFROM:-0700
TZOFFSETTO:-0800
TZNAME:PST
DTSTART:20271107T090000
END:STANDARD
END:VTIMEZONE
BEGIN:VEVENT
DTSTART;TZID=America/Los_Angeles:20260425T190000
DTEND;TZID=America/Los_Angeles:20260425T220000
DTSTAMP:20260424T172321
CREATED:20260413T024229Z
LAST-MODIFIED:20260413T024229Z
UID:10000511-1777143600-1777154400@reachlaangels.com
SUMMARY:LAKERS PLAYOFF WATCH PARTY
DESCRIPTION:Catch all the Lakers playoff action live with fans\, food\, and fun at the ultimate watch party!
URL:https://reachlaangels.com/event-2/lakers-playoff-watch-party-4/
LOCATION:SUNSET ROOFTOP\, 6097 Sunset Boulevard\, Los Angeles\, CA\, 90028\, United States
ATTACH;FMTTYPE=image/jpeg:https://reachlaangels.com/wp-content/uploads/2026/04/5b579d57951346002052727ea5f78d22.jpg
END:VEVENT
BEGIN:VEVENT
DTSTART;TZID=America/Los_Angeles:20260501T200000
DTEND;TZID=America/Los_Angeles:20260501T220000
DTSTAMP:20260424T172321
CREATED:20260402T143521Z
LAST-MODIFIED:20260424T090408Z
UID:10000495-1777665600-1777672800@reachlaangels.com
SUMMARY:Sunset Comedy
DESCRIPTION:outdoor stand-up comedy\n\n\nStep into the realm of laughter under the starry Hollywood sky every evening at 8 PM! Our outdoor comedy club is your ticket to an unforgettable night of hilarity and good times. Located at Sunset Rooftop\, join us for a side-splitting experience that will leave you rolling with laughter. \n \nAs the sun sets over the iconic Hollywood landscape\, our stage comes alive with some of the funniest comedians in town. Get ready to burst into fits of laughter as they deliver their best punchlines\, anecdotes\, and observational humor. \nflavorful \nBut that’s not all! While you’re enjoying the comedy\, indulge in our delicious food\, drink and hookah offerings. From mouthwatering snacks to a refreshing array of beverages and flavorful hookahs\, we’ve got you covered\, ensuring your taste buds are as satisfied as your funny bone. \n \nSo\, gather your friends\, grab a ticket\, and prepare to laugh until it hurts at our comedy club every evening at 8 PM. And don’t forget to stay for the Silent Party afterward Thursday to Sunday\, it’s the ultimate destination for a night full of laughter\, dancing\, and fun! \n \nupgrade your tickets to Bottomless mimosas and enjoy mimosas or champagne for duration of the show (2 hour limit ) \n \n \nmust be  +21
URL:https://reachlaangels.com/event-2/sunset-comedy/
LOCATION:SUNSET ROOFTOP\, 6097 Sunset Boulevard\, Los Angeles\, CA\, 90028\, United States
CATEGORIES:Comedy Shows,Nightlife & Social Events
ATTACH;FMTTYPE=image/jpeg:https://reachlaangels.com/wp-content/uploads/2026/04/31f05dba943092a6365445fc6b91e858-scaled.jpg
END:VEVENT
BEGIN:VEVENT
DTSTART;TZID=America/Los_Angeles:20260505T160000
DTEND;TZID=America/Los_Angeles:20260505T233000
DTSTAMP:20260424T172321
CREATED:20260421T135150Z
LAST-MODIFIED:20260421T135150Z
UID:10000555-1777996800-1778023800@reachlaangels.com
SUMMARY:cinco de mayo tacu tuesday
DESCRIPTION:¡Ven a celebrar Cinco de Mayo con tacos\, música y buena onda este martes en nuestro spot favorito!\n\n\n🌮 Cinco de Mayo at Sunset Rooftop\nCelebrate Cinco de Mayo in the heart of Hollywood at Sunset Rooftop — your favorite 21+ hookah lounge with food\, drinks\, music\, and all‑day vibes. \nEnjoy $2 tacos and $8 margaritas from open to close. Bring your friends\, grab a table\, and enjoy the rooftop energy with great music\, great food\, and great drinks. \nWhat to expect: \n\n🌮 $2 tacos all day\n🍹 $8 margaritas all day\n💨 Hookah available\n🎶 DJ + rooftop vibes\n🍽️ Full food & drink menu\n📍 6099 W Sunset Blvd\, Los Angeles\, CA\n🔞 21+ only\n🎉 Perfect for groups\, celebrations\, and day‑to‑night fun\n\nTickets guarantee entry. For table reservations or more info\, contact Sunset Rooftop directly at 3237012110
URL:https://reachlaangels.com/event-2/cinco-de-mayo-tacu-tuesday/
LOCATION:SUNSET ROOFTOP\, 6097 Sunset Boulevard\, Los Angeles\, CA\, 90028\, United States
ATTACH;FMTTYPE=image/jpeg:https://reachlaangels.com/wp-content/uploads/2026/04/e3357b54a39340e3abb264156409d782.jpg
END:VEVENT
BEGIN:VEVENT
DTSTART;TZID=America/Los_Angeles:20260510T120000
DTEND;TZID=America/Los_Angeles:20260510T143000
DTSTAMP:20260424T172321
CREATED:20260413T023653Z
LAST-MODIFIED:20260413T023653Z
UID:10000504-1778414400-1778423400@reachlaangels.com
SUMMARY:REAL MADRID vs BARCELONA (EL CLÁSICO) watch party
DESCRIPTION:Join us for the ultimate EL CLÁSICO watch party – cheer on Real Madrid vs Barcelona live with fans!\n\n\n EL CLÁSICO VIEWING PARTY @ SUNSET ROOFTOP \n⚽ EL CLÁSICO: Real Madrid vs Barcelona — Live at Sunset Rooftop!\nThe biggest rivalry in world football is back — and we’re turning Sunset Rooftop into LA’s most electric soccer watch party. Join hundreds of Real Madrid and Barcelona fans for an unforgettable El Clásico experience in the heart of Hollywood. \n🌇 Why Sunset Rooftop?\n• Rooftop seating with perfect game‑day vibes• Multiple big screens + premium sound• VIP rooms & private sections available• Food\, drinks\, hookah\, and bottle service• Fan‑friendly atmosphere — jerseys encouraged \n🕛 Match Time (LA Time)\nSunday\, May 10\, 2026Kickoff: 12:00 PMDoors open early for seating. \n🎉 What to Expect\n• Full rooftop watch party• Drink specials & game‑day menu• Hookah available all day• Fan chants\, energy\, and rivalry atmosphere• Content team capturing the best moments \n🔥 VIP & Table Options\n• VIP tables for groups• Private rooms for fan clubs• Bottle service packages• Perfect for birthdays\, celebrations\, or fan meetups \n \nEventbrite Special Offers Section\n🎟️ 2‑for‑1 Beer Ticket (Online Only)  Guests who purchase the 2‑for‑1 Beer Ticket online will receive two beers for the price of one when they check in at the venue.Limit one 2‑for‑1 ticket per person. \n💨 Hookah Special — $20 (Regular $45)  Guests who purchase the Hookah Special Ticket online can enjoy a hookah for only $20 (normally $45).Available only with online pre‑purchase. \n \n📍 Location\nSunset Rooftop – Hollywood21+ event \nCome rep your colors — Hala Madrid or Visca Barça — and experience El Clásico like never before.
URL:https://reachlaangels.com/event-2/real-madrid-vs-barcelona-el-clasico-watch-party/
LOCATION:SUNSET ROOFTOP\, 6097 Sunset Boulevard\, Los Angeles\, CA\, 90028\, United States
ATTACH;FMTTYPE=image/jpeg:https://reachlaangels.com/wp-content/uploads/2026/04/fa1d60a528056d742fafdbf909da0da7.jpg
END:VEVENT
END:VCALENDAR