BEGIN:VCALENDAR
VERSION:2.0
PRODID:-//Reach LA Angels - ECPv6.15.20//NONSGML v1.0//EN
CALSCALE:GREGORIAN
METHOD:PUBLISH
X-ORIGINAL-URL:https://reachlaangels.com
X-WR-CALDESC:Events for Reach LA Angels
REFRESH-INTERVAL;VALUE=DURATION:PT1H
X-Robots-Tag:noindex
X-PUBLISHED-TTL:PT1H
BEGIN:VTIMEZONE
TZID:America/Los_Angeles
BEGIN:DAYLIGHT
TZOFFSETFROM:-0800
TZOFFSETTO:-0700
TZNAME:PDT
DTSTART:20250309T100000
END:DAYLIGHT
BEGIN:STANDARD
TZOFFSETFROM:-0700
TZOFFSETTO:-0800
TZNAME:PST
DTSTART:20251102T090000
END:STANDARD
BEGIN:DAYLIGHT
TZOFFSETFROM:-0800
TZOFFSETTO:-0700
TZNAME:PDT
DTSTART:20260308T100000
END:DAYLIGHT
BEGIN:STANDARD
TZOFFSETFROM:-0700
TZOFFSETTO:-0800
TZNAME:PST
DTSTART:20261101T090000
END:STANDARD
BEGIN:DAYLIGHT
TZOFFSETFROM:-0800
TZOFFSETTO:-0700
TZNAME:PDT
DTSTART:20270314T100000
END:DAYLIGHT
BEGIN:STANDARD
TZOFFSETFROM:-0700
TZOFFSETTO:-0800
TZNAME:PST
DTSTART:20271107T090000
END:STANDARD
END:VTIMEZONE
BEGIN:VEVENT
DTSTART;TZID=America/Los_Angeles:20260425T220000
DTEND;TZID=America/Los_Angeles:20260426T020000
DTSTAMP:20260424T185712
CREATED:20260421T135009Z
LAST-MODIFIED:20260421T135009Z
UID:10000554-1777154400-1777168800@reachlaangels.com
SUMMARY:Room Key LA
DESCRIPTION:Saturday\,  April 25th @ Dragonfly Hollywood! Free w/ RSVP before 10:30pm!\n\n\nLevel 10 Entertainment presents \n \nRoom Key LA\n🔥 LA’s Best Kept Secret \n \nSaturday – April 25th\, 2026 \nDoors Open @ 10pm \n \nFeaturing: \nLA’s dopest DJs spinning your favorite Hip Hop\, Afro Beats and R&B all night! \n \nMeet us in Hollywood for an exclusive event! \n \n@ Dragonfly Hollywood \n6510 Santa Monica Blvd \nLos Angeles\, CA 90038 \n \nTo book a VIP Table or for Bottle Service\, Text: (424) 475-1253 or DM @LEVEL10ENT \n(Uber / Lyft Recommended) \n\n\n____________________________________________ \nFAQ’s \nQ: Is there a Dresscode? \nA: YES! \nFASHIONABLE / TRENDY ATTIRE \nDRESS CODE ENFORCED: \nNO EFFORT / NO ENTRY \n \nMust be properly groomed! \n \nQ: What’s the age limit for this event? \nA: This is a 21 & Over Event. \nValid ID is required for entry – No Exceptions. \n \nQ: Do you guys welcome vendors? \nA: Yes! Click here to inquire —> https://level10ent.com/vendors ! \n \nQ: Will this event be filmed or photographed? \nA: Yes\, by entering the event\, you are fully acknowledging and agreeing to the use of any and all photo\, video\, and audio captured for use at event organizers sole discretion\, without any further notice or compensation. As a condition of your attendance at “Room Key” you grant Level 10 Entertainment\, LLC\, it’s licensees\, successors\, and assigns the right\, but not the obligation\, to photograph and film you and use your likeness in the production\, exhibition\, distribution\, promotion\, publicity and advertising of this event in any and all media throughout the world in perpetuity. \nBy purchasing a ticket for this event\, you agree to receive communications from Level 10 Entertainment via Text and or Email. Please note that all sales are final.
URL:https://reachlaangels.com/event-2/room-key-la/
LOCATION:Dragonfly Hollywood\, 6510 Santa Monica Boulevard\, Los Angeles\, CA\, 90038\, United States
ATTACH;FMTTYPE=image/jpeg:https://reachlaangels.com/wp-content/uploads/2026/04/9c1ff3a160e245ea8ee665eb436a7e5e.jpg
END:VEVENT
BEGIN:VEVENT
DTSTART;TZID=America/Los_Angeles:20260425T220000
DTEND;TZID=America/Los_Angeles:20260426T020000
DTSTAMP:20260424T185712
CREATED:20260421T135009Z
LAST-MODIFIED:20260421T135009Z
UID:10000553-1777154400-1777168800@reachlaangels.com
SUMMARY:Room Key LA
DESCRIPTION:Saturday\,  April 25th @ Dragonfly Hollywood! Free w/ RSVP before 10:30pm!\n\n\nLevel 10 Entertainment presents \n \nRoom Key LA\n🔥 LA’s Best Kept Secret \n \nSaturday – April 25th\, 2026 \nDoors Open @ 10pm \n \nFeaturing: \nLA’s dopest DJs spinning your favorite Hip Hop\, Afro Beats and R&B all night! \n \nMeet us in Hollywood for an exclusive event! \n \n@ Dragonfly Hollywood \n6510 Santa Monica Blvd \nLos Angeles\, CA 90038 \n \nTo book a VIP Table or for Bottle Service\, Text: (424) 475-1253 or DM @LEVEL10ENT \n(Uber / Lyft Recommended) \n\n\n____________________________________________ \nFAQ’s \nQ: Is there a Dresscode? \nA: YES! \nFASHIONABLE / TRENDY ATTIRE \nDRESS CODE ENFORCED: \nNO EFFORT / NO ENTRY \n \nMust be properly groomed! \n \nQ: What’s the age limit for this event? \nA: This is a 21 & Over Event. \nValid ID is required for entry – No Exceptions. \n \nQ: Do you guys welcome vendors? \nA: Yes! Click here to inquire —> https://level10ent.com/vendors ! \n \nQ: Will this event be filmed or photographed? \nA: Yes\, by entering the event\, you are fully acknowledging and agreeing to the use of any and all photo\, video\, and audio captured for use at event organizers sole discretion\, without any further notice or compensation. As a condition of your attendance at “Room Key” you grant Level 10 Entertainment\, LLC\, it’s licensees\, successors\, and assigns the right\, but not the obligation\, to photograph and film you and use your likeness in the production\, exhibition\, distribution\, promotion\, publicity and advertising of this event in any and all media throughout the world in perpetuity. \nBy purchasing a ticket for this event\, you agree to receive communications from Level 10 Entertainment via Text and or Email. Please note that all sales are final.
URL:https://reachlaangels.com/event-2/room-key-la-2/
LOCATION:Dragonfly Hollywood\, 6510 Santa Monica Boulevard\, Los Angeles\, CA\, 90038\, United States
ATTACH;FMTTYPE=image/jpeg:https://reachlaangels.com/wp-content/uploads/2026/04/9c1ff3a160e245ea8ee665eb436a7e5e-1.jpg
END:VEVENT
BEGIN:VEVENT
DTSTART;TZID=America/Los_Angeles:20260524T220000
DTEND;TZID=America/Los_Angeles:20260525T020000
DTSTAMP:20260424T185712
CREATED:20260401T134001Z
LAST-MODIFIED:20260401T135137Z
UID:10000472-1779660000-1779674400@reachlaangels.com
SUMMARY:AFROBEATS TAKEOVER MEMORIAL DAY WEEKEND ALL WHITE ATTIRE PARTY
DESCRIPTION:Get ready to vibe in all white attire and dance the night away with the hottest Afrobeats rhythm this Memorial Day weekend!\n\n\nAFROBEATS TAKEOVER MEMORIAL DAY WEEKEND ALL WHITE ATTIRE PARTY\nGet ready to vibe at Dragonfly Hollywood on Sunday May 24\, 2026 at 10:00 PM (PDT)! Join us for an epic night of Afrobeats\, good music\, and great company. Don your freshest all white outfit and let’s celebrate Memorial Day Weekend in style. This is the perfect chance to dance\, mingle\, and make unforgettable memories. Don’t miss out on the ultimate party experience!  \nALL WHITE ATTIRE( NOT MANDATORY) \nDRAGONFLY HOLLYWOOD \n6510 Santa Monica Blvd Los Angeles California 90038 \n10:00pm to 2:00am \nNO WORK OR SCHOOL NEXT DAY HOLIDAY \nFREE W/RSVP BEFORE 11:00PM \n21+ \nVIBES BY: BLAQ PAGES | LENTINI | FEMI BRAIN | 619 \nFor birthday package and bottle special text 323-529-5192 or email dj619gh@gmail.com
URL:https://reachlaangels.com/event-2/afrobeats-takeover-memorial-day-weekend-all-white-attire-party/
LOCATION:Dragonfly Hollywood\, 6510 Santa Monica Boulevard\, Los Angeles\, CA\, 90038\, United States
ATTACH;FMTTYPE=image/jpeg:https://reachlaangels.com/wp-content/uploads/2026/04/5be3d1207694865fd33554733eb6150c.jpg
END:VEVENT
BEGIN:VEVENT
DTSTART;TZID=America/Los_Angeles:20260704T220000
DTEND;TZID=America/Los_Angeles:20260705T020000
DTSTAMP:20260424T185712
CREATED:20260401T133858Z
LAST-MODIFIED:20260406T063500Z
UID:10000471-1783202400-1783216800@reachlaangels.com
SUMMARY:AFROBEATS TAKEOVER “4TH OF JULY INDEPENDENCE DAY WEEKEND”
DESCRIPTION:  \n✨ AFROBEATS TAKEOVER — 4TH OF JULY INDEPENDENCE DAY WEEKEND\nDragonfly Hollywood | July 4\, 2026 | 10PM–2AM \nLA\, get ready — we’re turning Independence Day into a full‑on Afrobeats celebration. The city’s heating up\, the rhythm is calling\, and the vibes are strictly for the grown crowd ready to dance\, connect\, and celebrate culture all night long. \nStep into Dragonfly Hollywood for a night where the drums hit different\, the energy stays high\, and the community shows up looking like summertime magic. Whether you’re rolling deep with your crew or stepping out solo\, this is the place to be. \n🔥 What’s Going Down\n\nVibes by: Blaq Pages | 619 | Femi Brain | Special Guest DJ\nFREE w/ RSVP before 11PM\n21+\nJollof Rice + Suyah on deck\nHookah available\n\n📍 Location\nDragonfly Hollywood\n6510 Santa Monica Blvd\nLos Angeles\, CA 90038 \n🎉 Birthday or Special Celebration?\nText or DM @afrobeatstakeover or 323‑529‑5192 \nTicket Information: 👉🏾 Eventbrite Tickets \n\nPull up\, show out\, and let’s make this 4th of July weekend unforgettable — LA style. 🪽✨ \n\n\n\n\n\n\n\n\n\n\n\n\n\nLooking for something to do in Los Anegeles? We got you. Explore LA’s hottest events right here. 👉🏾 Reach LA Angels Events
URL:https://reachlaangels.com/event-2/afrobeats-takeover-4th-of-july-independence-day-weekend/
LOCATION:Dragonfly Hollywood\, 6510 Santa Monica Boulevard\, Los Angeles\, CA\, 90038\, United States
CATEGORIES:Day Parties,Food & Culinary Events
ATTACH;FMTTYPE=image/jpeg:https://reachlaangels.com/wp-content/uploads/2026/04/cb45d9fc7b1e7fb3c6ffc25da573efa8-scaled.jpg
END:VEVENT
END:VCALENDAR