BEGIN:VCALENDAR
VERSION:2.0
PRODID:-//Reach LA Angels - ECPv6.15.20//NONSGML v1.0//EN
CALSCALE:GREGORIAN
METHOD:PUBLISH
X-ORIGINAL-URL:https://reachlaangels.com
X-WR-CALDESC:Events for Reach LA Angels
REFRESH-INTERVAL;VALUE=DURATION:PT1H
X-Robots-Tag:noindex
X-PUBLISHED-TTL:PT1H
BEGIN:VTIMEZONE
TZID:America/Los_Angeles
BEGIN:DAYLIGHT
TZOFFSETFROM:-0800
TZOFFSETTO:-0700
TZNAME:PDT
DTSTART:20250309T100000
END:DAYLIGHT
BEGIN:STANDARD
TZOFFSETFROM:-0700
TZOFFSETTO:-0800
TZNAME:PST
DTSTART:20251102T090000
END:STANDARD
BEGIN:DAYLIGHT
TZOFFSETFROM:-0800
TZOFFSETTO:-0700
TZNAME:PDT
DTSTART:20260308T100000
END:DAYLIGHT
BEGIN:STANDARD
TZOFFSETFROM:-0700
TZOFFSETTO:-0800
TZNAME:PST
DTSTART:20261101T090000
END:STANDARD
BEGIN:DAYLIGHT
TZOFFSETFROM:-0800
TZOFFSETTO:-0700
TZNAME:PDT
DTSTART:20270314T100000
END:DAYLIGHT
BEGIN:STANDARD
TZOFFSETFROM:-0700
TZOFFSETTO:-0800
TZNAME:PST
DTSTART:20271107T090000
END:STANDARD
END:VTIMEZONE
BEGIN:VEVENT
DTSTART;TZID=America/Los_Angeles:20260423T190000
DTEND;TZID=America/Los_Angeles:20260423T220000
DTSTAMP:20260424T185456
CREATED:20260413T024115Z
LAST-MODIFIED:20260413T024115Z
UID:10000510-1776970800-1776981600@reachlaangels.com
SUMMARY:LAKERS PLAYOFF WATCH PARTY
DESCRIPTION:Catch all the Lakers playoff action live with fans\, food\, and fun at the ultimate watch party!
URL:https://reachlaangels.com/event-2/lakers-playoff-watch-party-3/
LOCATION:SUNSET ROOFTOP\, 6097 Sunset Boulevard\, Los Angeles\, CA\, 90028\, United States
ATTACH;FMTTYPE=image/jpeg:https://reachlaangels.com/wp-content/uploads/2026/04/5b579d57951346002052727ea5f78d22.jpg
END:VEVENT
BEGIN:VEVENT
DTSTART;TZID=America/Los_Angeles:20260420T190000
DTEND;TZID=America/Los_Angeles:20260420T220000
DTSTAMP:20260424T185456
CREATED:20260413T023959Z
LAST-MODIFIED:20260413T023959Z
UID:10000508-1776711600-1776722400@reachlaangels.com
SUMMARY:LAKERS PLAYOFF WATCH PARTY
DESCRIPTION:Catch all the Lakers playoff action live with fans\, food\, and fun at the ultimate watch party!
URL:https://reachlaangels.com/event-2/lakers-playoff-watch-party-2/
LOCATION:SUNSET ROOFTOP\, 6097 Sunset Boulevard\, Los Angeles\, CA\, 90028\, United States
ATTACH;FMTTYPE=image/jpeg:https://reachlaangels.com/wp-content/uploads/2026/04/5b579d57951346002052727ea5f78d22.jpg
END:VEVENT
BEGIN:VEVENT
DTSTART;TZID=America/Los_Angeles:20260418T170000
DTEND;TZID=America/Los_Angeles:20260418T200000
DTSTAMP:20260424T185456
CREATED:20260413T023840Z
LAST-MODIFIED:20260413T023840Z
UID:10000506-1776531600-1776542400@reachlaangels.com
SUMMARY:LAKERS PLAYOFF WATCH PARTY
DESCRIPTION:Catch all the Lakers playoff action live with fans\, food\, and fun at the ultimate watch party!
URL:https://reachlaangels.com/event-2/lakers-playoff-watch-party/
LOCATION:SUNSET ROOFTOP\, 6097 Sunset Boulevard\, Los Angeles\, CA\, 90028\, United States
ATTACH;FMTTYPE=image/jpeg:https://reachlaangels.com/wp-content/uploads/2026/04/5b579d57951346002052727ea5f78d22.jpg
END:VEVENT
END:VCALENDAR