BEGIN:VCALENDAR
VERSION:2.0
PRODID:-//Reach LA Angels - ECPv6.15.20//NONSGML v1.0//EN
CALSCALE:GREGORIAN
METHOD:PUBLISH
X-ORIGINAL-URL:https://reachlaangels.com
X-WR-CALDESC:Events for Reach LA Angels
REFRESH-INTERVAL;VALUE=DURATION:PT1H
X-Robots-Tag:noindex
X-PUBLISHED-TTL:PT1H
BEGIN:VTIMEZONE
TZID:America/Los_Angeles
BEGIN:DAYLIGHT
TZOFFSETFROM:-0800
TZOFFSETTO:-0700
TZNAME:PDT
DTSTART:20250309T100000
END:DAYLIGHT
BEGIN:STANDARD
TZOFFSETFROM:-0700
TZOFFSETTO:-0800
TZNAME:PST
DTSTART:20251102T090000
END:STANDARD
BEGIN:DAYLIGHT
TZOFFSETFROM:-0800
TZOFFSETTO:-0700
TZNAME:PDT
DTSTART:20260308T100000
END:DAYLIGHT
BEGIN:STANDARD
TZOFFSETFROM:-0700
TZOFFSETTO:-0800
TZNAME:PST
DTSTART:20261101T090000
END:STANDARD
BEGIN:DAYLIGHT
TZOFFSETFROM:-0800
TZOFFSETTO:-0700
TZNAME:PDT
DTSTART:20270314T100000
END:DAYLIGHT
BEGIN:STANDARD
TZOFFSETFROM:-0700
TZOFFSETTO:-0800
TZNAME:PST
DTSTART:20271107T090000
END:STANDARD
END:VTIMEZONE
BEGIN:VEVENT
DTSTART;TZID=America/Los_Angeles:20260505T120000
DTEND;TZID=America/Los_Angeles:20260505T130000
DTSTAMP:20260424T210031
CREATED:20260422T042251Z
LAST-MODIFIED:20260422T042251Z
UID:10000566-1777982400-1777986000@reachlaangels.com
SUMMARY:Moreno Valley College "MVC 101"
DESCRIPTION:Moreno Valley College “MVC 101”\n\n\nDiscover your future at Moreno Valley College!  \nJoin Moreno Valley College at the BERC to explore exciting academic opportunities\, hands-on apprenticeship programs\, and a wealth of resources to help you succeed. Whether you’re planning your career or looking to enhance your skills\, find out how our degrees\, certificates\, and programs can turn your goals into reality. Your journey starts here—don’t miss out! \n\n\n** This is a hybrid event. To attend in person\, finish the registration through Eventbrite. To attend virtually\, click on the Zoom link below. ** \nTo attend online: \n1. Visit Zoom Registration Page \nhttps://moval.zoom.us/webinar/register/WN_p-sYx2yqSkmbYz4_KgA5Gg \n2. Enter registration details. \n3. Once finished\, you will receive an email with an access URL. \nTo attend in-person: \n1. Click on the red “Reserve a Spot” button to the right \n2. Attend the workshop in person at the Moreno Valley Business & Employment Resource Center
URL:https://reachlaangels.com/event-2/moreno-valley-college-mvc-101/
LOCATION:Moreno Valley Business & Employment Resource Center\, 12625 Frederick Street\, #Suite K-3\, Moreno Valley\, CA\, 92553\, United States
ATTACH;FMTTYPE=image/jpeg:https://reachlaangels.com/wp-content/uploads/2026/04/67f26a299fec6f7099fa55e4c70890ce.jpg
END:VEVENT
BEGIN:VEVENT
DTSTART;TZID=America/Los_Angeles:20260506T090000
DTEND;TZID=America/Los_Angeles:20260506T100000
DTSTAMP:20260424T210031
CREATED:20260421T140059Z
LAST-MODIFIED:20260421T140059Z
UID:10000558-1778058000-1778061600@reachlaangels.com
SUMMARY:Grow Your Business with AI-Powered Tools by Google
DESCRIPTION:Artificial Intelligence is a powerful technology that can help simplify business tasks and create new opportunities for small businesses
URL:https://reachlaangels.com/event-2/grow-your-business-with-ai-powered-tools-by-google/
LOCATION:Moreno Valley Business & Employment Resource Center\, 12625 Frederick Street\, #Suite K-3\, Moreno Valley\, CA\, 92553\, United States
END:VEVENT
END:VCALENDAR