BEGIN:VCALENDAR
VERSION:2.0
PRODID:-//Reach LA Angels - ECPv6.15.20//NONSGML v1.0//EN
CALSCALE:GREGORIAN
METHOD:PUBLISH
X-ORIGINAL-URL:https://reachlaangels.com
X-WR-CALDESC:Events for Reach LA Angels
REFRESH-INTERVAL;VALUE=DURATION:PT1H
X-Robots-Tag:noindex
X-PUBLISHED-TTL:PT1H
BEGIN:VTIMEZONE
TZID:America/Los_Angeles
BEGIN:DAYLIGHT
TZOFFSETFROM:-0800
TZOFFSETTO:-0700
TZNAME:PDT
DTSTART:20250309T100000
END:DAYLIGHT
BEGIN:STANDARD
TZOFFSETFROM:-0700
TZOFFSETTO:-0800
TZNAME:PST
DTSTART:20251102T090000
END:STANDARD
BEGIN:DAYLIGHT
TZOFFSETFROM:-0800
TZOFFSETTO:-0700
TZNAME:PDT
DTSTART:20260308T100000
END:DAYLIGHT
BEGIN:STANDARD
TZOFFSETFROM:-0700
TZOFFSETTO:-0800
TZNAME:PST
DTSTART:20261101T090000
END:STANDARD
BEGIN:DAYLIGHT
TZOFFSETFROM:-0800
TZOFFSETTO:-0700
TZNAME:PDT
DTSTART:20270314T100000
END:DAYLIGHT
BEGIN:STANDARD
TZOFFSETFROM:-0700
TZOFFSETTO:-0800
TZNAME:PST
DTSTART:20271107T090000
END:STANDARD
END:VTIMEZONE
BEGIN:VEVENT
DTSTART;TZID=America/Los_Angeles:20260418T173000
DTEND;TZID=America/Los_Angeles:20260418T230000
DTSTAMP:20260424T172739
CREATED:20260328T055830Z
LAST-MODIFIED:20260401T125521Z
UID:10000401-1776533400-1776553200@reachlaangels.com
SUMMARY:ChaliFest — Música\, Cultura y Fiesta Familiar en Santa Fe Springs Swap Meet
DESCRIPTION:🎉 Evento Destacado: ChaliFest — Música\, Cultura y Fiesta Familiar en Santa Fe Springs Swap Meet\nUna Celebración de Música Regional\, Comunidad y Buen Ambiente\nPrepárate para una noche llena de energía\, tradición y puro sabor regional. ChaliFest llega con un cartel poderoso que reúne a Los Morros del Norte\, El As De La Sierra\, Los Ases y más artistas que representan lo mejor de nuestra música y cultura.\nUn evento familiar\, vibrante y lleno de orgullo comunitario — perfecto para todas las edades. \n\n🎶 Artistas Destacados: Talento que Enciende el Escenario\nLos Morros del Norte\nÍconos del regional mexicano\, conocidos por su estilo inconfundible y su conexión con el público. \nEl As De La Sierra\nCon su sonido firme y auténtico\, llegan listos para poner a cantar a toda la gente. \nLos Ases\nUna agrupación que trae tradición\, fuerza y un repertorio que nunca falla. \nY eso es solo el comienzo — ChaliFest promete una noche llena de música en vivo\, energía y momentos inolvidables. \n\n📍 Venue Highlight: Santa Fe Springs Swap Meet — Un Clásico del Sur de California\nEl Santa Fe Springs Swap Meet es uno de los lugares más queridos por la comunidad latina: amplio\, accesible\, familiar y con un ambiente que se siente como casa.\nPerfecto para un festival que celebra nuestras raíces y nuestra música. \n📅 Sábado\, 18 de abril\n⏰ Puertas abren a las 5:30 PM\n👧🏽 Niños de 54 pulgadas o menos entran GRATIS\n❌ No hay reembolsos | No PayPal – 👉🏾 Eventbrite Tickets \n\n🎤 Productor del Evento\nChaliFest llega gracias a productores dedicados a elevar la música regional y crear espacios donde la comunidad pueda reunirse\, celebrar y disfrutar de talento auténtico. Su compromiso con eventos familiares y accesibles es lo que hace que festivales como este sigan creciendo. \n\n✨ Por Qué No Te Lo Puedes Perder\nEste evento es para ti si te encanta: \n\nLa música regional mexicana\nLos conciertos al aire libre\nLos eventos familiares\nLa vibra auténtica de la comunidad latina\nLas noches llenas de música\, comida y buena compañía\n\nChaliFest es más que un concierto — es una celebración cultural. \n\n👉 Descubre Más Eventos\n¿Buscas más eventos culturales\, conciertos y actividades en Los Ángeles\, el Sur de California y más allá?\nExplora más eventos en ReachLAAngels.com\nPublica tu evento directamente en nuestro calendario — gratis para la comunidad \n\nPublicado por Erica “EMissyK” Lindsay – Reach LA Angels\nTu Voz • Tu Vibra • Tu Comunidad
URL:https://reachlaangels.com/event-2/chalifest-con-los-morros-del-norte-el-as-de-la-sierra-los-ases-y-mas/
LOCATION:Santa Fe Springs Swap Meet\, 13963 Alondra Blvd\, Santa Fe Springs\, CA\, 90670\, United States
CATEGORIES:Family-Friendly Events,Food & Culinary Events,Live Music & Concerts
ATTACH;FMTTYPE=image/jpeg:https://reachlaangels.com/wp-content/uploads/2026/03/86f5065866bb8ad37a18c36957f81c6c.jpg
END:VEVENT
END:VCALENDAR