BEGIN:VCALENDAR
VERSION:2.0
PRODID:-//Reach LA Angels - ECPv6.15.20//NONSGML v1.0//EN
CALSCALE:GREGORIAN
METHOD:PUBLISH
X-WR-CALNAME:Reach LA Angels
X-ORIGINAL-URL:https://reachlaangels.com
X-WR-CALDESC:Events for Reach LA Angels
REFRESH-INTERVAL;VALUE=DURATION:PT1H
X-Robots-Tag:noindex
X-PUBLISHED-TTL:PT1H
BEGIN:VTIMEZONE
TZID:America/Los_Angeles
BEGIN:DAYLIGHT
TZOFFSETFROM:-0800
TZOFFSETTO:-0700
TZNAME:PDT
DTSTART:20250309T100000
END:DAYLIGHT
BEGIN:STANDARD
TZOFFSETFROM:-0700
TZOFFSETTO:-0800
TZNAME:PST
DTSTART:20251102T090000
END:STANDARD
BEGIN:DAYLIGHT
TZOFFSETFROM:-0800
TZOFFSETTO:-0700
TZNAME:PDT
DTSTART:20260308T100000
END:DAYLIGHT
BEGIN:STANDARD
TZOFFSETFROM:-0700
TZOFFSETTO:-0800
TZNAME:PST
DTSTART:20261101T090000
END:STANDARD
BEGIN:DAYLIGHT
TZOFFSETFROM:-0800
TZOFFSETTO:-0700
TZNAME:PDT
DTSTART:20270314T100000
END:DAYLIGHT
BEGIN:STANDARD
TZOFFSETFROM:-0700
TZOFFSETTO:-0800
TZNAME:PST
DTSTART:20271107T090000
END:STANDARD
END:VTIMEZONE
BEGIN:VEVENT
DTSTART;TZID=America/Los_Angeles:20260515T190000
DTEND;TZID=America/Los_Angeles:20260516T000000
DTSTAMP:20260424T191800
CREATED:20260317T090037Z
LAST-MODIFIED:20260327T081314Z
UID:10000378-1778871600-1778889600@reachlaangels.com
SUMMARY:Jazz Funk Soul at the West: Smooth Jazz Hit Makers & Legends Series – Featuring Nils\, Paula Atherton & Johnny Britt
DESCRIPTION:  \nJazz Funk Soul at the West: Smooth Jazz Hit Makers & Legends Series – Featuring Nils\, Paula Atherton & Johnny Britt\nChuck Dennis Presents: Jazz Funk Soul Ignites the West – Torrance\, CA\nFor the true smooth‑jazz lovers\, the grown‑folks crowd\, and the South Bay music movers who know good live music when they hear it — this night is for you. Experience Jazz Funk Soul at the West: Smooth Jazz Hit Makers & Legends Series for an evening celebrating the best in contemporary music. \nOn Friday\, May 15\, the Smooth Jazz Hit Makers & Legends Series brings three powerhouse artists to the stage at View Music Bar:\n🎸 Nils — chart‑topping guitarist and producer\n🎷 Paula Atherton — saxophonist\, vocalist\, and contemporary jazz favorite\n🎺 Johnny Britt — trumpeter\, vocalist\, and soulful hitmaker \nTogether\, they deliver a night of smooth grooves\, melodic storytelling\, and the kind of musicianship that keeps the South Bay coming back for more. Notably\, Jazz Funk Soul at the West: Smooth Jazz Hit Makers & Legends Series is guaranteed to leave a lasting impression. \n\n🎶 About the Event\nDate: Friday\, May 15\nDoors: 7:00 PM\nShowtime: 8:00 PM\nTickets: $40 (via Eventbrite)\nMinimum: 2‑drink purchase or food order \nExpect a night filled with chart‑topping hits\, soulful solos\, and the signature smooth‑jazz sound that has defined each of these artists’ careers. This is a rare triple‑bill performance — three legends\, one stage\, one unforgettable night. \n\n🌆 The City & Community: Torrance\, CA\nTorrance continues to grow as a cultural destination for live jazz and soul in the South Bay. This event brings together music lovers from across Los Angeles\, Long Beach\, Carson\, Inglewood\, and beyond — all ready for a night of smooth\, sophisticated sound. \n\n🎵 The Venue: View Music Bar\nLocated at 1431 W. Knox St.\, Torrance\, CA\, View Music Bar is the South Bay’s newest home for live entertainment\, great food\, crafted cocktails\, and a grown‑folks atmosphere. Its intimate layout and elevated sound make it the perfect setting for a smooth‑jazz showcase. \n\n🎤 The Event Producer: Chuck Dennis Presents\nA respected curator of jazz\, soul\, and R&B experiences\, Chuck Dennis continues to elevate the South Bay’s music scene through the Jazz Funk Soul At The West series. Much of his success comes from popular events like Jazz Funk Soul at the West: Smooth Jazz Hit Makers & Legends Series\, which highlight world-class talent and unforgettable performances to audiences who appreciate real music and real artistry. \n\n⭐ Featured Talent\nNils\nA smooth‑jazz guitarist known for his chart‑topping hits and signature melodic style. \nPaula Atherton\nA dynamic saxophonist and vocalist whose blend of jazz\, soul\, and contemporary grooves lights up every stage. \nJohnny Britt\nA soulful trumpeter\, vocalist\, and producer whose sound blends jazz\, R&B\, and timeless musicality. \n\n🎟️ Where to Get Tickets\nTickets are available now through Eventbrite:👉🏾  Eventbrite Tickets \nDon’t miss Jazz Funk Soul at the West: Smooth Jazz Hit Makers & Legends Series is considered the premier live music experience in Torrance. \n\n🔗 Stay Connected with Reach LA Angels\nWe keep Southern California plugged into the best live music\, cultural events\, and nightlife experiences. In short\, Jazz Funk Soul at the West: Smooth Jazz Hit Makers & Legends Series is a must-attend for anyone searching for sophisticated sounds and legendary performances. \nExplore More on Reach LA Angels\n\nAdvertise With Us – Promote your event or business to our growing LA audience.\nRead an Article – Discover more event highlights and community stories.\nSubmit an Event 24/7 – Add your event to our platform anytime.\n\nYour culture. Your community. Your nightlife — all in one place. 🤙🏽Connect with Us \n\nPublished by Erica “EMissyK” Lindsay — your guide to the people\, places\, and experiences shaping LA’s cultural pulse.
URL:https://reachlaangels.com/event-2/jazz-funk-soul-at-the-west-smooth-jazz-hit-makers-and-legends-series/
LOCATION:View Music Bar & Lounge\, 1431 W. Knox St\, Torrance\, CA\, 90501\, United States
CATEGORIES:Live Music & Concerts,Nightlife & Social Events,South Bay Events
ATTACH;FMTTYPE=image/png:https://reachlaangels.com/wp-content/uploads/2026/03/Smooth-Jazz.png
ORGANIZER;CN="Chuck Dennis Presents":MAILTO:JazzFunkSoulAtTheWest@gmail.com
END:VEVENT
END:VCALENDAR