BEGIN:VCALENDAR
VERSION:2.0
PRODID:-//Reach LA Angels - ECPv6.15.20//NONSGML v1.0//EN
CALSCALE:GREGORIAN
METHOD:PUBLISH
X-ORIGINAL-URL:https://reachlaangels.com
X-WR-CALDESC:Events for Reach LA Angels
REFRESH-INTERVAL;VALUE=DURATION:PT1H
X-Robots-Tag:noindex
X-PUBLISHED-TTL:PT1H
BEGIN:VTIMEZONE
TZID:America/Los_Angeles
BEGIN:DAYLIGHT
TZOFFSETFROM:-0800
TZOFFSETTO:-0700
TZNAME:PDT
DTSTART:20250309T100000
END:DAYLIGHT
BEGIN:STANDARD
TZOFFSETFROM:-0700
TZOFFSETTO:-0800
TZNAME:PST
DTSTART:20251102T090000
END:STANDARD
BEGIN:DAYLIGHT
TZOFFSETFROM:-0800
TZOFFSETTO:-0700
TZNAME:PDT
DTSTART:20260308T100000
END:DAYLIGHT
BEGIN:STANDARD
TZOFFSETFROM:-0700
TZOFFSETTO:-0800
TZNAME:PST
DTSTART:20261101T090000
END:STANDARD
BEGIN:DAYLIGHT
TZOFFSETFROM:-0800
TZOFFSETTO:-0700
TZNAME:PDT
DTSTART:20270314T100000
END:DAYLIGHT
BEGIN:STANDARD
TZOFFSETFROM:-0700
TZOFFSETTO:-0800
TZNAME:PST
DTSTART:20271107T090000
END:STANDARD
END:VTIMEZONE
BEGIN:VEVENT
DTSTART;TZID=America/Los_Angeles:20260417T190000
DTEND;TZID=America/Los_Angeles:20260418T000000
DTSTAMP:20260424T210256
CREATED:20260312T024403Z
LAST-MODIFIED:20260327T083506Z
UID:10000372-1776452400-1776470400@reachlaangels.com
SUMMARY:Jazz Funk Soul At The West : B.I.G. Live at the View
DESCRIPTION:  \nJazz Funk Soul At The West: B.I.G. Live at the View\nChuck Dennis Presents: Jazz Funk Soul Ignites the West – Torrance\, CA\nThe South Bay is gearing up for a night of pure groove\, live musicianship\, and grown‑folks energy as B.I.G. (Brothers Igniting a Groove) takes the stage for Jazz Funk Soul At The West: B.I.G. Live at the View. This R&B\, Smooth Jazz\, and Old School Funk band is known for electrifying performances that blend nostalgia\, rhythm\, and undeniable soul — and they’re bringing all of it to Torrance\, CA. Furthermore\, Jazz Funk Soul At The West : B.I.G. Live at the View is set to become one of the highlights for music fans in the area. \nThis event is part of the highly anticipated Chuck Dennis Presents: Jazz Funk Soul Ignites the West music series\, a curated lineup designed for mature audiences who appreciate real music\, real artistry\, and real vibes. \n\n🎶 About the Event\nDate: April 17\nDoors: 7 PM\nShowtime: 8 PM\nTicket Price: $30–$40\nMinimum: 2‑drink or food purchase required \nB.I.G. delivers a high‑energy fusion of R&B\, smooth jazz\, and old‑school funk — the kind of live show that fills the room with rhythm\, harmony\, and feel‑good nostalgia. Expect a night of musicianship\, crowd engagement\, and a soundtrack that takes you from the classics to the contemporary. In fact\, Jazz Funk Soul At The West : B.I.G. Live at the View will feature a blend of genres that keeps everyone entertained. \n\n📍 The City & Community: Torrance\, CA\nTorrance continues to rise as a cultural hub for live entertainment in the South Bay. With a diverse community and a growing appetite for quality nightlife\, events like this bring together music lovers from across Los Angeles for a sophisticated\, soulful night out. \n\n🎵 The Venue: View Music Bar & Lounge\nLocated at 1431 W. Knox St.\, Unit 300\, Torrance\, CA\, View Music Bar is one of the South Bay’s newest hotspots for live music\, food\, drinks\, and dancing. The venue blends upscale ambiance with a welcoming community vibe — the perfect backdrop for a night of jazz\, funk\, and soul. Additionally\, the venue was chosen specifically because it complements Jazz Funk Soul At The West : B.I.G. Live at the View. \nClick here to view their website👉🏾 https://www.viewmusicbar.live/ \n\n🎤 The Event Producer: Chuck Dennis Presents\nA respected force in the LA jazz and soul scene\, Chuck Dennis continues to elevate live entertainment with his signature production style. His Jazz Funk Soul series brings world‑class musicians to the South Bay\, creating unforgettable nights for mature music lovers. \n\n⭐ Featured Talent: B.I.G. (Brothers Igniting a Groove)\nThis powerhouse band is known for: \n\nSmooth jazz instrumentation\nR&B vocals and harmonies\nOld‑school funk rhythms\nHigh‑energy stage presence\nA setlist that keeps the crowd moving\n\nIf you love live bands that bring the heat\, B.I.G. is the experience you don’t want to miss. Ultimately\, Jazz Funk Soul At The West : B.I.G. Live at the View promises a night of energy and unforgettable music. \n\n🎟️ Where to Get Tickets\nTickets for B.I.G. Live at the View are available on Eventbrite.\n👉🏾 Click Here – Tickets and Details!  \n\n🔗 Explore More on Reach LA Angels\nWe keep the community connected to the best events in Los Angeles — and we invite you to stay plugged in. \nYour Next Steps\nSubmit an Event 24/7 – Add your event to our platform anytime. 👉🏾 Click Here \nYour city. Your culture. Your events — all in one place. \n\nPublished by Reach LA Angels Team!
URL:https://reachlaangels.com/event-2/jazz-funk-soul-at-the-west-big-live-at-the-view/
LOCATION:View Music Bar\, 1431 W\, Knox Street\, Torrance\, CA\, 90501\, United States
CATEGORIES:Live Music & Concerts,Nightlife & Social Events,South Bay Events
ATTACH;FMTTYPE=image/png:https://reachlaangels.com/wp-content/uploads/2026/03/BIG.png
ORGANIZER;CN="Chuck Dennis Presents":MAILTO:JazzFunkSoulAtTheWest@gmail.com
END:VEVENT
END:VCALENDAR