BEGIN:VCALENDAR
VERSION:2.0
PRODID:-//Reach LA Angels - ECPv6.15.20//NONSGML v1.0//EN
CALSCALE:GREGORIAN
METHOD:PUBLISH
X-ORIGINAL-URL:https://reachlaangels.com
X-WR-CALDESC:Events for Reach LA Angels
REFRESH-INTERVAL;VALUE=DURATION:PT1H
X-Robots-Tag:noindex
X-PUBLISHED-TTL:PT1H
BEGIN:VTIMEZONE
TZID:America/Los_Angeles
BEGIN:DAYLIGHT
TZOFFSETFROM:-0800
TZOFFSETTO:-0700
TZNAME:PDT
DTSTART:20250309T100000
END:DAYLIGHT
BEGIN:STANDARD
TZOFFSETFROM:-0700
TZOFFSETTO:-0800
TZNAME:PST
DTSTART:20251102T090000
END:STANDARD
BEGIN:DAYLIGHT
TZOFFSETFROM:-0800
TZOFFSETTO:-0700
TZNAME:PDT
DTSTART:20260308T100000
END:DAYLIGHT
BEGIN:STANDARD
TZOFFSETFROM:-0700
TZOFFSETTO:-0800
TZNAME:PST
DTSTART:20261101T090000
END:STANDARD
BEGIN:DAYLIGHT
TZOFFSETFROM:-0800
TZOFFSETTO:-0700
TZNAME:PDT
DTSTART:20270314T100000
END:DAYLIGHT
BEGIN:STANDARD
TZOFFSETFROM:-0700
TZOFFSETTO:-0800
TZNAME:PST
DTSTART:20271107T090000
END:STANDARD
END:VTIMEZONE
BEGIN:VEVENT
DTSTART;TZID=America/Los_Angeles:20260704T220000
DTEND;TZID=America/Los_Angeles:20260705T020000
DTSTAMP:20260424T190145
CREATED:20260401T133858Z
LAST-MODIFIED:20260406T063500Z
UID:10000471-1783202400-1783216800@reachlaangels.com
SUMMARY:AFROBEATS TAKEOVER “4TH OF JULY INDEPENDENCE DAY WEEKEND”
DESCRIPTION:  \n✨ AFROBEATS TAKEOVER — 4TH OF JULY INDEPENDENCE DAY WEEKEND\nDragonfly Hollywood | July 4\, 2026 | 10PM–2AM \nLA\, get ready — we’re turning Independence Day into a full‑on Afrobeats celebration. The city’s heating up\, the rhythm is calling\, and the vibes are strictly for the grown crowd ready to dance\, connect\, and celebrate culture all night long. \nStep into Dragonfly Hollywood for a night where the drums hit different\, the energy stays high\, and the community shows up looking like summertime magic. Whether you’re rolling deep with your crew or stepping out solo\, this is the place to be. \n🔥 What’s Going Down\n\nVibes by: Blaq Pages | 619 | Femi Brain | Special Guest DJ\nFREE w/ RSVP before 11PM\n21+\nJollof Rice + Suyah on deck\nHookah available\n\n📍 Location\nDragonfly Hollywood\n6510 Santa Monica Blvd\nLos Angeles\, CA 90038 \n🎉 Birthday or Special Celebration?\nText or DM @afrobeatstakeover or 323‑529‑5192 \nTicket Information: 👉🏾 Eventbrite Tickets \n\nPull up\, show out\, and let’s make this 4th of July weekend unforgettable — LA style. 🪽✨ \n\n\n\n\n\n\n\n\n\n\n\n\n\nLooking for something to do in Los Anegeles? We got you. Explore LA’s hottest events right here. 👉🏾 Reach LA Angels Events
URL:https://reachlaangels.com/event-2/afrobeats-takeover-4th-of-july-independence-day-weekend/
LOCATION:Dragonfly Hollywood\, 6510 Santa Monica Boulevard\, Los Angeles\, CA\, 90038\, United States
CATEGORIES:Day Parties,Food & Culinary Events
ATTACH;FMTTYPE=image/jpeg:https://reachlaangels.com/wp-content/uploads/2026/04/cb45d9fc7b1e7fb3c6ffc25da573efa8-scaled.jpg
END:VEVENT
END:VCALENDAR