BEGIN:VCALENDAR
VERSION:2.0
PRODID:-//Reach LA Angels - ECPv6.15.20//NONSGML v1.0//EN
CALSCALE:GREGORIAN
METHOD:PUBLISH
X-ORIGINAL-URL:https://reachlaangels.com
X-WR-CALDESC:Events for Reach LA Angels
REFRESH-INTERVAL;VALUE=DURATION:PT1H
X-Robots-Tag:noindex
X-PUBLISHED-TTL:PT1H
BEGIN:VTIMEZONE
TZID:America/Los_Angeles
BEGIN:DAYLIGHT
TZOFFSETFROM:-0800
TZOFFSETTO:-0700
TZNAME:PDT
DTSTART:20250309T100000
END:DAYLIGHT
BEGIN:STANDARD
TZOFFSETFROM:-0700
TZOFFSETTO:-0800
TZNAME:PST
DTSTART:20251102T090000
END:STANDARD
BEGIN:DAYLIGHT
TZOFFSETFROM:-0800
TZOFFSETTO:-0700
TZNAME:PDT
DTSTART:20260308T100000
END:DAYLIGHT
BEGIN:STANDARD
TZOFFSETFROM:-0700
TZOFFSETTO:-0800
TZNAME:PST
DTSTART:20261101T090000
END:STANDARD
BEGIN:DAYLIGHT
TZOFFSETFROM:-0800
TZOFFSETTO:-0700
TZNAME:PDT
DTSTART:20270314T100000
END:DAYLIGHT
BEGIN:STANDARD
TZOFFSETFROM:-0700
TZOFFSETTO:-0800
TZNAME:PST
DTSTART:20271107T090000
END:STANDARD
END:VTIMEZONE
BEGIN:VEVENT
DTSTART;TZID=America/Los_Angeles:20260927T140000
DTEND;TZID=America/Los_Angeles:20260927T170000
DTSTAMP:20260424T204821
CREATED:20260416T085046Z
LAST-MODIFIED:20260416T085154Z
UID:10000542-1790517600-1790528400@reachlaangels.com
SUMMARY:Erica’s Sapphire 50th Birthday Celebration
DESCRIPTION:  \n💎 Save the Date: Erica’s Sapphire 50th Birthday Celebration\nLos Angeles\, get ready to shine!\nOn Sunday\, September 27\, 2026\, we’re celebrating Erica’s 50th Birthday in true Reach LA Angels style — bold\, beautiful\, and full of good energy. The theme? Sapphire Blue\, symbolizing wisdom\, power\, and the glow that comes with living life unapologetically. \nThis milestone night will feature DJ sets and live music\, bringing together LA’s finest crowd for an unforgettable evening of rhythm\, elegance\, and celebration. Expect a vibe that’s grown\, sophisticated\, and full of love — because turning 50 deserves nothing less than brilliance. \n\n🎶 The Experience\n\nSapphire Blue cocktail elegance\nDJ + Live Music\nBeautiful people\, great energy\, and culture through sound\nA night to remember in the heart of LA\n\n\n📅 Save the Date\nSunday\, September 27\, 2026\nLocation details coming soon — but trust\, it’s going to be stunning. \n\n✨ Stay Connected\nFollow @ReachLAAngels for updates\, sneak peeks\, and exclusive behind‑the‑scenes moments as we count down to this milestone celebration. \n\nPublished by Erica “EMissyK” Lindsay — Reach LA Angels\nTagline: Where LA’s culture\, community\, and good energy come to meet.
URL:https://reachlaangels.com/event-2/ericas-sapphire-50th-birthday-celebration/
CATEGORIES:Day Parties
ATTACH;FMTTYPE=image/jpeg:https://reachlaangels.com/wp-content/uploads/2026/04/Copilot_20260416_012349.jpg
ORGANIZER;CN="Reach LA Angels":MAILTO:info@reachlaangels.com
END:VEVENT
END:VCALENDAR