BEGIN:VCALENDAR
VERSION:2.0
PRODID:-//Reach LA Angels - ECPv6.15.20//NONSGML v1.0//EN
CALSCALE:GREGORIAN
METHOD:PUBLISH
X-ORIGINAL-URL:https://reachlaangels.com
X-WR-CALDESC:Events for Reach LA Angels
REFRESH-INTERVAL;VALUE=DURATION:PT1H
X-Robots-Tag:noindex
X-PUBLISHED-TTL:PT1H
BEGIN:VTIMEZONE
TZID:America/Los_Angeles
BEGIN:DAYLIGHT
TZOFFSETFROM:-0800
TZOFFSETTO:-0700
TZNAME:PDT
DTSTART:20250309T100000
END:DAYLIGHT
BEGIN:STANDARD
TZOFFSETFROM:-0700
TZOFFSETTO:-0800
TZNAME:PST
DTSTART:20251102T090000
END:STANDARD
BEGIN:DAYLIGHT
TZOFFSETFROM:-0800
TZOFFSETTO:-0700
TZNAME:PDT
DTSTART:20260308T100000
END:DAYLIGHT
BEGIN:STANDARD
TZOFFSETFROM:-0700
TZOFFSETTO:-0800
TZNAME:PST
DTSTART:20261101T090000
END:STANDARD
BEGIN:DAYLIGHT
TZOFFSETFROM:-0800
TZOFFSETTO:-0700
TZNAME:PDT
DTSTART:20270314T100000
END:DAYLIGHT
BEGIN:STANDARD
TZOFFSETFROM:-0700
TZOFFSETTO:-0800
TZNAME:PST
DTSTART:20271107T090000
END:STANDARD
END:VTIMEZONE
BEGIN:VEVENT
DTSTART;TZID=America/Los_Angeles:20260502T180000
DTEND;TZID=America/Los_Angeles:20260502T180000
DTSTAMP:20260424T191756
CREATED:20260303T071755Z
LAST-MODIFIED:20260327T083240Z
UID:10000103-1777744800-1777744800@reachlaangels.com
SUMMARY:When Soul Meets Seduction: A Saxy Night in Rancho Cucamonga
DESCRIPTION:  \n\nA Soulful & Saxy Night Takes Over Rancho Cucamonga\nPublished by Hailey‑Bale\, Reach LA Angels \n\n🔥 Rancho Cucamonga Gets a Smooth\, Sexy R&B Experience\nRancho Cucamonga is about to light up with soul\, sax\, and pure live‑music magic as Chuck Dennis brings an elevated\, intimate night to the Epic Events Center. A Soulful & Saxy Night blends powerhouse vocals\, live instrumentation\, and a classy atmosphere perfect for grown folks who appreciate real artistry and a night out with style. \nThis experience highlights the incredible Dani B. Jaia and features the captivating saxophone talent of Erisa Nicole—two dynamic performers who know how to command a room and deliver a show that is unforgettable. \n\n🎤 Artist Spotlight: Dani B. Jaia\nDani B. Jaia brings a rich\, soulful sound that hits deep. Her voice is warm\, expressive\, and built for live R&B. Expect a performance filled with emotion\, storytelling\, and the kind of energy that reminds you why live music still reigns supreme. \n\n🎷 Featuring Erisa Nicole: Saxophone with Seduction\nThe night gets even smoother with Erisa Nicole\, whose saxophone sound adds a sultry\, jazz‑infused layer to the entire experience. Her tone is lush\, her presence magnetic\, and her performance elevates the show into something truly special. \n\n🎩 Curated by Chuck Dennis\nChuck Dennis is known for producing events that feel intentional\, soulful\, and elevated. His shows highlight real musicianship\, real artistry\, and real connection. When Chuck curates a night\, you know it’s going to be smooth\, sexy\, and worth dressing up for. \n\n📍 Epic Events Center — Rancho Cucamonga\, CA\nThe Epic Events Center sets the perfect backdrop for a night of live R&B and saxophone elegance.\nAddress: 12469 Foothill Blvd.\, Rancho Cucamonga\, CA \n\n📅 Event Details\n\nDate: Saturday\, May 2\, 2026\nDoors: 6:00 PM\nShowtime: 7:00 PM\nCurator: Chuck Dennis\nArtists: Dani B. Jaia\, featuring Erisa Nicole\n\n\n🎟️ Ticket Information\n\nPre‑Sale: $30\nAt the Door: $40\nMinimum: 2‑drink minimum\nBirthdays & Table Reservations: 818‑984‑4871\n\n\n🍷 A Night Built for Grown‑Folks Vibes\nThis is the kind of night where you dress up\, sip something smooth\, and let the music take over. Live vocals\, live sax\, and a sexy atmosphere make this the perfect evening for date night\, celebrations\, or a classy night out with friends. \n\n📣 Connect With Reach LA Angels\nReach LA Angels highlights curated events across California and supports organizers\, performers\, and venues looking to expand their reach. Explore affordable advertising options designed to elevate your event and grow your audience. \nExplore more events\, articles\, and promo opportunities at:\n👉 Reach LA Angels Events \nFollow us on social:\n@reachlaangels on Facebook\, Instagram\, TikTok & Threads \n 
URL:https://reachlaangels.com/event-2/when-soul-meets-seduction-a-saxy-night-in-rancho-cucamonga/
LOCATION:Epic Events Center\, 12469 Foothill Blvd\, Rancho Cucamonga\, CA\, 91739\, United States
CATEGORIES:Inland Empire Events,Live Music & Concerts,Nightlife & Social Events
ATTACH;FMTTYPE=image/jpeg:https://reachlaangels.com/wp-content/uploads/2026/03/142B1F73-8385-436E-B324-9EBF6D6F9F5D.jpg
END:VEVENT
BEGIN:VEVENT
DTSTART;TZID=America/Los_Angeles:20260627T180000
DTEND;TZID=America/Los_Angeles:20260627T230000
DTSTAMP:20260424T191756
CREATED:20260326T143124Z
LAST-MODIFIED:20260327T080754Z
UID:10000382-1782583200-1782601200@reachlaangels.com
SUMMARY:Bobby Dee Presents: Freestyle Festival Returns to the IE
DESCRIPTION:  \n✨ Freestyle Festival Returns to the IE — A Summer Celebration of Classics\, Culture & Community\nIf you grew up on bass‑thumping beats\, high‑energy dance floors\, and the unmistakable sound of freestyle music\, then mark your calendar — because Freestyle Festival is coming back bigger than ever. Bobby Dee Presents: Freestyle Festival Returns to the IE this summer\, as the Toyota Arena in Ontario transforms into a nostalgic playground where legendary artists\, iconic anthems\, and thousands of fans come together for a full‑day celebration of music and culture. \nOn Saturday\, June 27\, 2026\, Bobby Dee presents a lineup stacked with the voices that shaped an era — and they’re ready to bring those memories right back to the stage. Bringing together the energy of Bobby Dee Presents with the excitement of the Freestyle Festival returning to the Inland Empire is sure to create unforgettable moments. \n🎶 The Legends Are Outside\nThis year’s festival features an all‑star roster of freestyle royalty\, including a roster worthy of Bobby Dee Presents: Freestyle Festival Returns to the IE and headlining some of the most iconic talent. \n\nLisa Lisa — “Can You Feel the Beat”\nStevie B — “Spring Love”\nCynthia — “Change on Me”\nTrinere — “I’ll Be All You Ever Need”\nShannon — “Let the Music Play”\nJohnny O — “Fantasy Girl”\nThe Cover Girls — “Show Me”\nNice & Wild — “Diamond Girl”\nSweet Sensation — “Hooked on You”\nNoel — “Silent Morning”\nLime — “Babe\, We’re Gonna Love Tonight”\nTapps — “My Forbidden Lover”\nTimmy T — “One More Try”\nRobin S — “Show Me Love”\nCrystal Waters — “Gypsy Woman”\nEgyptian Lover — “Egypt\, Egypt”\nCandyman — “Knockin’ Boots”\nJ.J. Fad — “Supersonic”\n\nHosted by J Valentino\, this lineup is a full‑blown time machine — taking you back to the days of mixtapes\, dance battles\, and cruising with the windows down. Moreover\, Bobby Dee Presents: Freestyle Festival Returns to the IE brings this nostalgia to life with a crowd ready to relive every moment. \n📍 Event Details\n📅 Saturday\, June 27\, 2026\n📌 Toyota Arena — Ontario\, CA\nThis is the Inland Empire’s biggest throwback celebration of the year — and the perfect summer kickoff for freestyle lovers across LA\, the IE\, and the High Desert. For fans eager to experience Bobby Dee Presents: Freestyle Festival Returns to the IE\, this event promises that classic festival atmosphere. \n🎟️ Tickets\nTickets are available now at FreestyleFestival.com.\nWith a lineup this stacked\, early purchase is highly recommended. To ensure your place at Bobby Dee Presents: Freestyle Festival Returns to the IE\, act quickly. \n🌴 Why This Festival Matters\nFreestyle isn’t just music — it’s culture. It’s community. It’s the soundtrack of generations who grew up dancing\, loving\, and living out loud. Events like Bobby Dee Presents: Freestyle Festival Returns to the IE help keep that energy alive and give us a space to reconnect with the artists and memories that shaped our youth. \nWhether you’re pulling up with your day‑ones\, your partner\, or your whole family\, this festival promises a day full of nostalgia\, rhythm\, and pure summertime joy. Above all\, Bobby Dee Presents: Freestyle Festival Returns to the IE is the event of the summer for anyone who loves freestyle. \n🔗 Get Your Tickets\nVisit FreestyleFestival.com to secure your spot in the crowd for Bobby Dee Presents: Freestyle Festival Returns to the IE. \n \n  \n\n✨ Reach LA Angels — For Our Black & Brown Community\nStay tapped in with the culture.\nReach LA Angels is building a space where Black and Brown communities can discover the best events\, concerts\, festivals\, day parties\, family gatherings\, and cultural moments happening across LA\, the IE\, and the High Desert. By the way\, Bobby Dee Presents: Freestyle Festival Returns to the IE is one of many exciting events in town. \nIf you want to stay connected to the experiences that celebrate us — our music\, our joy\, our stories\, our community — join our mailing list and never miss what’s next. \nFrom grown‑folks nightlife to family‑friendly events\, we’ve got the pulse on what’s happening.\nTap in\, stay informed\, and support the platforms that support our culture. When Bobby Dee Presents: Freestyle Festival Returns to the IE comes to Ontario\, it’s one more way to get connected. \nJoin the Reach LA Angels mailing list today. 👉🏾 Join us Here \n\n  \nPublished by Erica “EMissyK” Lindsay — Your guide to what’s happening\, who’s popping\, and where to be. Looking for the best events\, concerts\, or festivals like Bobby Dee Presents: Freestyle Festival Returns to the IE? Stay tuned for more updates.
URL:https://reachlaangels.com/event-2/bobby-dee-presents-freestyle-festival-returns-to-the-ie/
LOCATION:Toyota Arena\, 4000 East Ontario Center Parkway\, Ontario\, CA\, 91764\, United States
CATEGORIES:Inland Empire Events,Live Music & Concerts
ATTACH;FMTTYPE=image/jpeg:https://reachlaangels.com/wp-content/uploads/2026/03/IMG_0159.jpg
END:VEVENT
END:VCALENDAR