BEGIN:VCALENDAR
VERSION:2.0
PRODID:-//Reach LA Angels - ECPv6.15.20//NONSGML v1.0//EN
CALSCALE:GREGORIAN
METHOD:PUBLISH
X-ORIGINAL-URL:https://reachlaangels.com
X-WR-CALDESC:Events for Reach LA Angels
REFRESH-INTERVAL;VALUE=DURATION:PT1H
X-Robots-Tag:noindex
X-PUBLISHED-TTL:PT1H
BEGIN:VTIMEZONE
TZID:America/Los_Angeles
BEGIN:DAYLIGHT
TZOFFSETFROM:-0800
TZOFFSETTO:-0700
TZNAME:PDT
DTSTART:20250309T100000
END:DAYLIGHT
BEGIN:STANDARD
TZOFFSETFROM:-0700
TZOFFSETTO:-0800
TZNAME:PST
DTSTART:20251102T090000
END:STANDARD
BEGIN:DAYLIGHT
TZOFFSETFROM:-0800
TZOFFSETTO:-0700
TZNAME:PDT
DTSTART:20260308T100000
END:DAYLIGHT
BEGIN:STANDARD
TZOFFSETFROM:-0700
TZOFFSETTO:-0800
TZNAME:PST
DTSTART:20261101T090000
END:STANDARD
BEGIN:DAYLIGHT
TZOFFSETFROM:-0800
TZOFFSETTO:-0700
TZNAME:PDT
DTSTART:20270314T100000
END:DAYLIGHT
BEGIN:STANDARD
TZOFFSETFROM:-0700
TZOFFSETTO:-0800
TZNAME:PST
DTSTART:20271107T090000
END:STANDARD
END:VTIMEZONE
BEGIN:VEVENT
DTSTART;TZID=America/Los_Angeles:20260425T220000
DTEND;TZID=America/Los_Angeles:20260426T020000
DTSTAMP:20260424T190106
CREATED:20260401T133709Z
LAST-MODIFIED:20260416T060401Z
UID:10000470-1777154400-1777168800@reachlaangels.com
SUMMARY:AFROBEATS & R&B TAKEOVER — LOS ANGELES
DESCRIPTION:  \n✨ AFROBEATS & R&B TAKEOVER — LOS ANGELES NIGHTLIFE VIBES\nSaturday\, April 25 | Melrose House | 10PM–2AM \nLos Angeles\, get ready to vibe all night with the hottest Afrobeats\, smooth R&B\, and the global sounds that keep the city moving. The AFROBEATS & R&B TAKEOVER is back — bringing great energy\, beautiful people\, and a cultural experience you can feel from the music to the food. \nThis month\, we’re turning up the heat with a blend of Afrobeats\, R&B\, Amapiano\, Dancehall\, and more\, creating a soundtrack that celebrates the soul of LA’s Black & Brown community. If you love good vibes\, good music\, and a room full of stunning people\, this is your night. \n\n🔥 What to Expect\n\nA high‑energy mix of Afrobeats\, R&B\, Amapiano\, Dancehall & global vibes\nBeautiful crowd\, grown energy\, and a culture‑rich atmosphere\nFood available on site\nA signature LA nightlife experience curated for the 21+ community\n\n\n🎧 Hosted By\nDJ 619 & Friends\nBringing the heat all night long. \n\n📍 Location\nMelrose House\n4216 Melrose Ave\nLos Angeles\, CA \n21+ | No Refunds \n\n⏰ Event Details\nSaturday\, April 25th\n10:00PM – 2:00AM \nTickets are available on Eventbrite: 👉🏾 Eventbrite Tickets \n\n🎉 Birthday Packages\nCelebrating something special?\nDM @afrobeatstakeover or text 323‑529‑5192 for birthday packages and VIP options. \n\n  \n🌟 Explore More LA Culture\nLove events like this? Stay tapped in with the best Afrobeats\, R&B\, nightlife\, concerts\, and community‑driven experiences across Los Angeles.\nCheck out more events on ReachLAAngels.com — and if you’re an event producer\, you can publish your event on our calendar 24/7. \n\nPublished by Erica “EMissyK” Lindsay — Reach LA Angels\nTagline: Where LA’s culture\, community\, and good energy come to meet. \n 
URL:https://reachlaangels.com/event-2/afrobeats-and-rb-takeover/
LOCATION:4216 Melrose Ave\, 4216 Melrose Avenue\, Los Angeles\, CA\, 90029\, United States
CATEGORIES:Free & Low-Cost Events,Nightlife & Social Events
ATTACH;FMTTYPE=image/jpeg:https://reachlaangels.com/wp-content/uploads/2026/04/cefca12439c4fcd84ade79ad1577f27a.jpg
END:VEVENT
BEGIN:VEVENT
DTSTART;TZID=America/Los_Angeles:20260509T130000
DTEND;TZID=America/Los_Angeles:20260509T180000
DTSTAMP:20260424T190106
CREATED:20260328T053451Z
LAST-MODIFIED:20260401T063046Z
UID:10000389-1778331600-1778349600@reachlaangels.com
SUMMARY:Take Action Presents: The Downey Wellness & Resource Fair
DESCRIPTION:Free wellness resources\, mental health information\, and giveaways at the Downey Street Fair. Family-friendly community event open to all.\n\n\nJoin us for the Take Action Downey Wellness & Resource Fair\, a community-centered wellness experience taking place during the Downey Street Fair\, one of the city’s largest annual events featuring over 150 local vendors\, food booths\, and family-friendly activities. \nPresented through the Take Action Initiative\, this special wellness activation will provide free mental health resources\, wellness information\, and community services for attendees of all ages. \nVisitors can: \n• Connect with local wellness and community organizations\n• Access free mental health and wellness resources\n• Receive educational materials and giveaways\n• Enjoy family-friendly activities and community engagement\n• Attend live stage appearances featuring local leaders and public agencies \nWhile the street fair will feature local businesses and food vendors\, all Take Action wellness resources and activities are completely free to the public. \nThis is a family-friendly event open to all ages\, designed to bring neighbors together and increase awareness of mental health\, wellness\, and community support. \n📍 Location: Downey Street Fair – Brookshire Avenue\, Downey\, CA\n📅 Date: May 9\, 2026\n⏰ Time: 01:00 pM – 6:00 PM \nThe event will take place outdoors in an ADA-accessible public space. \n\n\nNondiscrimination Statement \nThis event is open to all members of the community. Participation is available regardless of race\, ethnicity\, gender identity\, sexual orientation\, disability status\, religion\, immigration status\, or socioeconomic background. \nAll community members are welcome. \n\n\nRambo House Community (RHC) is dedicated to entrepreneurship\, business readiness\, creative economy development\, and contract-ready education. RHC creates spaces where Downey and South LA’s entrepreneurs\, small business owners\, families\, and community leaders can access real opportunities\, meaningful mentorship\, and honest conversations — including those around mental health and well-being that the business world too often overlooks. \n\n\nFUNDING & COMPLIANCE DISCLOSURE: \nThis event is supported through the Take Action LA initiative\, funded by the California Mental Health Services Authority (CalMHSA) and the Los Angeles County Department of Mental Health (LACDMH) through Mental Health Services Act (MHSA) Prevention and Early Intervention funding. Rambo House Community operates under Take Action LA funded programming. All activities and resources are provided free of charge to the community. \n\n\nPHOTOGRAPHY NOTICE: \nPhotography and videography may occur during the event for documentation\, community outreach\, and grant reporting purposes. By attending\, participants acknowledge that photos or video may be taken in public areas. Individuals who prefer not to appear in photos or videos may notify Rambo House Community staff upon arrival. \n\n\n📞 Event Support & ADA Requests\nFor event questions\, accessibility needs\, or ADA accommodation requests\, please contact: \nRambo House Community\nstaff@rambohouse.com\n310-971-9221 \n\n✨ Stay Connected with Reach LA Angels\nLooking for more Black & Brown events across Los Angeles?\nWe spotlight the concerts\, festivals\, comedy shows\, and cultural moments that keep our city moving.\n👉 Explore more events at ReachLAAngels.com\n👉 Publish your event & get seen by the community 👉🏾 Reach LA Angels Events
URL:https://reachlaangels.com/event-2/take-action-presents-the-downey-wellness-resource-fair/
LOCATION:Brookshire Avenue\, 11131 Brookshire Avenue\, Downey\, CA\, 90241\, United States
CATEGORIES:Family-Friendly Events,Free & Low-Cost Events,Wellness & Fitness
ATTACH;FMTTYPE=image/jpeg:https://reachlaangels.com/wp-content/uploads/2026/03/e377e0a92c760dfc0fd0dfeceb4bd9fb.jpg
END:VEVENT
BEGIN:VEVENT
DTSTART;TZID=America/Los_Angeles:20260801T160000
DTEND;TZID=America/Los_Angeles:20260801T220000
DTSTAMP:20260424T190106
CREATED:20260328T060703Z
LAST-MODIFIED:20260328T063948Z
UID:10000405-1785600000-1785621600@reachlaangels.com
SUMMARY:Afro-Latino Culture Fest-Los Angeles
DESCRIPTION:4th Annual Afro‑Latino Culture Fest Returns to DTLA for a Powerful Celebration of Rhythm\, Art & Community\nLos Angeles\, get ready — the 4th Annual Afro‑Latino Culture Fest is back\, bringing the heartbeat of the diaspora to the center of the city. This free community festival blends music\, dance\, food\, art\, and cultural storytelling into one unforgettable summer experience. \nSaturday\, August 1\, 2026 | 4PM–10PM\nLA Plaza de Cultura y Artes — Downtown Los Angeles\n(Directly across from Union Station — public transit highly recommended) \n\nA Celebration Rooted in Culture & Community\nThe Afro‑Latino Culture Fest continues its mission to uplift the voices\, traditions\, and artistry of Afro‑Latino communities across the Americas. Expect a full sensory experience that honors heritage while celebrating the future. \n\n🎤 Live Performances & Cultural Showcases\nFrom traditional rhythms to contemporary Afro‑Latino sounds\, the festival lineup brings together artists who represent the global influence of the diaspora.\n• Live music\n• Dance showcases\n• Spoken word & cultural storytelling \n\n🎨 Art\, Food & Immersive Experiences\nThis year’s festival expands its cultural footprint with interactive art activations\, community murals\, and hands‑on exhibits.\n• Live painting & cultural installations\n• Afro‑Latino cuisine from across Latin America & the Caribbean\n• Tropical cocktails + refreshing summer sips\n• Family‑friendly cultural activities\n• A curated vendor marketplace featuring Afro‑Latino makers\, artists & small businesses \n\n📍 Venue Spotlight: LA Plaza de Cultura y Artes\nLocated in the heart of DTLA\, LA Plaza de Cultura y Artes is one of the city’s most important cultural landmarks. Its open‑air courtyard\, historic architecture\, and proximity to Union Station make it the perfect home for a festival rooted in heritage\, community\, and celebration. \n\n🎬 Event Producer Highlight\nThe Afro‑Latino Culture Fest is produced by a team dedicated to cultural preservation\, community empowerment\, and authentic representation. Their commitment to uplifting Afro‑Latino voices continues to make this festival one of LA’s most anticipated cultural events of the summer. \n\n💥 Free for the Community\nThis event is 100% free\, but the impact is priceless. Come ready to dance\, eat\, learn\, and celebrate the beauty and diversity of Afro‑Latino identity. \n\n🚨 Vendors\, Sponsors & Partners — Now Open\nIf you’re a creator\, business\, or organization looking to connect with a vibrant\, engaged community\, this is your moment.\nApply at AfroLatinoCultureFest.com \n\n❤️ Support the Culture\nThe festival is free\, but the work behind it is real.\nIf you believe in visibility\, representation\, and cultural pride\, consider donating. Every contribution helps keep this celebration alive for future generations. \n\n🔗 Explore More Events Across Los Angeles\nLooking for more cultural experiences\, nightlife\, and community‑centered events?\n👉 Browse upcoming events at Reach LA Angels Events\n👉 Have an event to promote? Publish it on our site 24/7. 👉🏾 Publish your event \n\nPublished by Erica “EMissyK” Lindsay – Reach LA Angels.\nElevating the people\, places\, and experiences shaping LA’s cultural pulse.
URL:https://reachlaangels.com/event-2/afro-latino-culture-fest-los-angeles/
LOCATION:LA Plaza de Cultura y Artes\, 501 North Main Street\, Los Angeles\, CA\, 90012\, United States
CATEGORIES:Downtown LA Events,Family-Friendly Events,Food & Culinary Events,Free & Low-Cost Events
ATTACH;FMTTYPE=image/jpeg:https://reachlaangels.com/wp-content/uploads/2026/03/fd34b557dc07d413299e1feefc4b7ae0-scaled.jpg
END:VEVENT
END:VCALENDAR