BEGIN:VCALENDAR
VERSION:2.0
PRODID:-//Reach LA Angels - ECPv6.15.20//NONSGML v1.0//EN
CALSCALE:GREGORIAN
METHOD:PUBLISH
X-WR-CALNAME:Reach LA Angels
X-ORIGINAL-URL:https://reachlaangels.com
X-WR-CALDESC:Events for Reach LA Angels
REFRESH-INTERVAL;VALUE=DURATION:PT1H
X-Robots-Tag:noindex
X-PUBLISHED-TTL:PT1H
BEGIN:VTIMEZONE
TZID:America/Los_Angeles
BEGIN:DAYLIGHT
TZOFFSETFROM:-0800
TZOFFSETTO:-0700
TZNAME:PDT
DTSTART:20250309T100000
END:DAYLIGHT
BEGIN:STANDARD
TZOFFSETFROM:-0700
TZOFFSETTO:-0800
TZNAME:PST
DTSTART:20251102T090000
END:STANDARD
BEGIN:DAYLIGHT
TZOFFSETFROM:-0800
TZOFFSETTO:-0700
TZNAME:PDT
DTSTART:20260308T100000
END:DAYLIGHT
BEGIN:STANDARD
TZOFFSETFROM:-0700
TZOFFSETTO:-0800
TZNAME:PST
DTSTART:20261101T090000
END:STANDARD
BEGIN:DAYLIGHT
TZOFFSETFROM:-0800
TZOFFSETTO:-0700
TZNAME:PDT
DTSTART:20270314T100000
END:DAYLIGHT
BEGIN:STANDARD
TZOFFSETFROM:-0700
TZOFFSETTO:-0800
TZNAME:PST
DTSTART:20271107T090000
END:STANDARD
END:VTIMEZONE
BEGIN:VEVENT
DTSTART;TZID=America/Los_Angeles:20260502T100000
DTEND;TZID=America/Los_Angeles:20260502T140000
DTSTAMP:20260424T204612
CREATED:20260330T092907Z
LAST-MODIFIED:20260330T093057Z
UID:10000463-1777716000-1777730400@reachlaangels.com
SUMMARY:Pour Into HERitage Brunch — A Faith‑Filled Tea Party - Victorville
DESCRIPTION:  \n🌸 Event Spotlight: Pour Into HERitage Brunch — A Faith‑Filled Tea Party for Every Woman in the Family\nHosted by the Forge Foundation\n📍 15421 Village Dr\, Victorville\, CA\n📅 Saturday\, May 2\, 2026 | 10am – 2pm\n🎟️ Tickets: $85 (Ages 12+) \nSpring is blooming in Victorville\, and so is this beautiful\, faith‑based celebration created just for the women and young ladies in our community. The Pour Into HERitage Brunch is more than a tea party — it’s a moment of re \nRestoration\, sisterhood\, and generational love. \nThis year’s theme\, “Beauty for Ashes\,” invites every woman to step into healing\, joy\, and renewal. From mothers to daughters\, aunties to nieces\, grandmothers to god‑babies — this is the perfect family‑friendly event to gather all the ladies and dress to the tea.\n(Yes\, pun absolutely intended.) \n\n✨ What to Expect\nThis elegant brunch is designed to pour into every part of a woman’s life: \n\nMental Health — encouragement\, clarity\, and emotional wellness\nPhysical Health — nourishment\, vitality\, and self‑care\nFinancial Health — empowerment\, planning\, and stability\nFamily Health — unity\, communication\, and generational strength\n\nWith a gorgeous tea‑time setting\, floral décor\, pastries\, and a spirit‑filled atmosphere\, this event blends faith\, femininity\, and community in the sweetest way. \n\n✨ Dress Code\nCome in your best tea‑time attire — hats\, florals\, pastels\, gloves\, pearls\, and all the soft\, elegant vibes.\nThis is your moment to show up\, shine\, and celebrate womanhood in style. \n\n✨ Tickets & Payment\n🎟️ $85 per guest (Ages 12+)\nPayment options include:\n• Cash\n• Zelle: (442) 319‑9218\n• Online: www.sbfcwc.org \nSeats will fill quickly — especially for families attending together — so early registration is encouraged. \n\n✨ Why This Event Matters\nThe Pour Into HERitage Brunch uplifts Black & Brown women across the High Desert and Inland Empire\, creating a safe\, joyful space for connection\, healing\, and celebration. It’s a rare chance to slow down\, breathe\, and be poured into — spiritually\, emotionally\, and culturally. \n\n✨ Stay Connected with Reach LA Angels\nLooking for more faith‑based\, family‑friendly\, and women‑centered events across LA and the IE?\nWe’ve got you covered. \n👉 Explore upcoming events at Reach LA Angels Events\n👉 Publish your event & reach the Black & Brown community \n\nPublished by Erica “EMissy” Lindsay – Reach LA Angels\nYour Voice • Your Vibe • Your Event \n 
URL:https://reachlaangels.com/event-2/pour-into-heritage-brunch-a-faith-filled-tea-party-victorville/
LOCATION:15421 Village Dr\, Victorville\, CA
CATEGORIES:Faith & Spirituality,Family-Friendly Events
ATTACH;FMTTYPE=image/jpeg:https://reachlaangels.com/wp-content/uploads/2026/03/IMG_0555-e1774861933291.jpg
END:VEVENT
BEGIN:VEVENT
DTSTART;TZID=America/Los_Angeles:20260509T170000
DTEND;TZID=America/Los_Angeles:20260509T210000
DTSTAMP:20260424T204612
CREATED:20260219T155252Z
LAST-MODIFIED:20260327T081617Z
UID:10000098-1778346000-1778360400@reachlaangels.com
SUMMARY:Leon Lacey’s Black Tie Cinematic Symphony in Echo Park Featuring Kirk Franklin
DESCRIPTION:  \nA Mother’s Day Experience Like No Other: Leon Lacey’s Black Tie Cinematic Symphony in Echo Park Featuring Kirk Franklin\nLos Angeles\, this Mother’s Day we’re doing more than brunch and flowers. This year\, Echo Park becomes the backdrop for an unforgettable night of elegance\, culture\, and musical brilliance as Leon Lacey’s Black Tie Cinematic Symphony brings a full orchestral experience to the historic Angelus Temple. \nFor many of us\, orchestras weren’t part of our upbringing. They felt distant\, expensive\, or simply “not for us.” This event flips that narrative. It’s Black excellence\, artistry\, and storytelling on a grand stage—right here in the heart of Los Angeles. \n\nLeon Lacey: A Cinematic Sound Architect\nLeon Lacey isn’t just a composer; he’s a visionary. Known for blending classical orchestration with gospel\, soul\, and cinematic soundscapes\, Lacey creates experiences that feel like movies you can hear. \nFor this special Mother’s Day Red Carpet / Black Tie Affair\, he’s curating a night that honors the women who raised us\, loved us\, and held us down. Expect: \n\nLush strings and powerful brass\nEmotional\, movie-like arrangements\nFamiliar songs reimagined in a symphonic format\n\nThis isn’t background music—it’s a full-body experience. \n\nFeaturing the Legendary Kirk Franklin\nNow add Kirk Franklin to a live orchestra and you’ve got something truly once-in-a-lifetime. \nKirk’s catalog is the soundtrack of so many of our lives. Hearing those songs with a full symphony behind them? That’s goosebumps\, tears\, praise\, and joy all in one. \nJust imagine an orchestra behind: \n\n“Melodies From Heaven”\n“Imagine Me”\n“I Smile”\n“Now Behold the Lamb”\n“Stomp” (yes\, even that one hits different with violins)\n\nThese are songs that carried our families through hard times\, holidays\, Sunday mornings\, and late-night drives. Now they’re being elevated in a cinematic\, orchestral setting that honors our culture and our stories. \n\nWhy This Orchestral Experience Matters for Our Community\nA lot of our community hasn’t had many chances to sit in a concert hall and hear a live orchestra. Not because we don’t appreciate it—but because it hasn’t always been created with us in mind. \nThis event changes that. \n\nRepresentation: We get to see our sound\, our stories\, and our faith on a grand stage. And enjoy looking and feeling amazing on red carpets\, wearing tuxedos\, and gowns.\nAccess: It brings orchestral music into a space and neighborhood we know—Echo Park\, Los Angeles.\nLegacy: It’s something you can bring your mom\, aunties\, grandmothers\, and kids to and say\, “We were there.”\n\nThis is about expanding what’s possible for us culturally—showing that orchestras aren’t just for one type of audience. They’re for anyone whose heart beats when the music hits. \n\nEvent Details\nEvent: Leon Lacey’s Black Tie Cinematic Symphony\nOccasion: Elegant Mother’s Day Red Carpet / Black Tie Affair\nFeaturing: Kirk Franklin\nDate: Saturday\, May 9\, 2026\nLocation: Angelus Temple\nAddress: 1100 Glendale Blvd\, Los Angeles\, CA (Echo Park) \nDress up\, show out\, and give the mothers in your life a night they will never forget. \n\nGet Your Tickets\nTickets:\nBlack Tie Symphony \nSecure your seats early—this is the kind of experience that will sell out and be talked about long after Mother’s Day is over. \n\nSubmit Your Event to Reach LA Angels\nHave an event that celebrates our community\, our culture\, and our creativity? \nSubmit your event to Reach LA Angels for promotion and visibility:\nSubmit An Event  \nWe’re here to spotlight the curators\, creators\, and visionaries moving the city forward—one experience at a time. \nPublished by Erica “EMissyK” Lindsay ~ Reach LA Angels \n 
URL:https://reachlaangels.com/event-2/black-tie-cinematic-symphony-echo-park-experience/
LOCATION:Angelus Temple\, 1100 Glendale Blvd\, Los Angeles\, CA\, 90026\, United States
CATEGORIES:Faith & Spirituality,Family-Friendly Events,Live Music & Concerts
ATTACH;FMTTYPE=image/jpeg:https://reachlaangels.com/wp-content/uploads/2026/02/IMG_9666.jpg
END:VEVENT
END:VCALENDAR