BEGIN:VCALENDAR
VERSION:2.0
PRODID:-//Reach LA Angels - ECPv6.15.20//NONSGML v1.0//EN
CALSCALE:GREGORIAN
METHOD:PUBLISH
X-ORIGINAL-URL:https://reachlaangels.com
X-WR-CALDESC:Events for Reach LA Angels
REFRESH-INTERVAL;VALUE=DURATION:PT1H
X-Robots-Tag:noindex
X-PUBLISHED-TTL:PT1H
BEGIN:VTIMEZONE
TZID:America/Los_Angeles
BEGIN:DAYLIGHT
TZOFFSETFROM:-0800
TZOFFSETTO:-0700
TZNAME:PDT
DTSTART:20250309T100000
END:DAYLIGHT
BEGIN:STANDARD
TZOFFSETFROM:-0700
TZOFFSETTO:-0800
TZNAME:PST
DTSTART:20251102T090000
END:STANDARD
BEGIN:DAYLIGHT
TZOFFSETFROM:-0800
TZOFFSETTO:-0700
TZNAME:PDT
DTSTART:20260308T100000
END:DAYLIGHT
BEGIN:STANDARD
TZOFFSETFROM:-0700
TZOFFSETTO:-0800
TZNAME:PST
DTSTART:20261101T090000
END:STANDARD
BEGIN:DAYLIGHT
TZOFFSETFROM:-0800
TZOFFSETTO:-0700
TZNAME:PDT
DTSTART:20270314T100000
END:DAYLIGHT
BEGIN:STANDARD
TZOFFSETFROM:-0700
TZOFFSETTO:-0800
TZNAME:PST
DTSTART:20271107T090000
END:STANDARD
END:VTIMEZONE
BEGIN:VEVENT
DTSTART;TZID=America/Los_Angeles:20260425T200000
DTEND;TZID=America/Los_Angeles:20260426T010000
DTSTAMP:20260424T190121
CREATED:20260318T050532Z
LAST-MODIFIED:20260327T083333Z
UID:10000379-1777147200-1777165200@reachlaangels.com
SUMMARY:SPRING FLING 6 — MAD HATTER EDITION - DTLA
DESCRIPTION:  \n\n \n  \n🌸 SPRING FLING 6 — MAD HATTER EDITION – DTLA\nProduced by The LA Promoters\nStep into Spring with color\, creativity\, and pure LA energy. Spring Fling 6: Mad Hatter Edition is bringing a vibrant\, Wonderland‑inspired celebration to Downtown Los Angeles — a night designed for the grown\, stylish\, and ready‑to‑mix crowd. This is where Spring nightlife meets bold fashion\, community connection\, and unforgettable vibes. \n• Kevin Rouse\n• Don Derbigny\n• Artris Leftage\n• Angelo Lombard Williams\n• Raymond Jarreau \n\n🌼 THE EVENT\nThis year’s Spring Fling 6 transforms the night into a playful\, high‑energy Mad Hatter experience. Expect bright colors\, whimsical attire\, and a room full of LA’s most social\, fashion‑forward adults. From the Meet & Greet to the late‑night dance floor\, this event sets the tone for Spring 2026. \n\n📍 THE CITY / COMMUNITY\nHosted in the heart of Downtown Los Angeles – DTLA\, this event brings together communities from across LA\, the South Bay\, and beyond. Spring Fling has become a staple for LA’s mature social scene — a place where culture\, connection\, and celebration meet. \n\n🏨 THE VENUE\nHotel Figueroa\n939 S. Figueroa St.\, Los Angeles\, CA 90015\nValet and self‑parking available. \nHotel Figueroa’s iconic architecture and artistic atmosphere make it the perfect setting for a bold\, colorful Spring celebration. Its central DTLA location ensures easy access for guests across the city. \nHotel Figueroa Website \n \n\n🌟 FEATURED TALENT & KEY EVENT DETAILS\n✨ Spring Fling 6: Mad Hatter Edition\n✨ Saturday\, April 25\, 2026\n✨ 8:00 PM – 1:00 AM\n✨ Meet & Greet: 6:00 PM – 8:00 PM\n✨ Birthday Celebrations for Angelo Lombard Williams\, Schvone Rouse\, Eugene Sidney & Big Bad DJ Sidney Thompson\n✨ Attire: Lots of color. Bold patterns. Whimsical Spring fashion. Mad Hatter chic encouraged. \n \n  \n\n🎟️ WHERE TO GET TICKETS\nTickets are available now on Eventbrite.\nThis event sells out every year — early purchase is strongly recommended. 👉🏾 Eventbrite Tickets \n  \n\n🌸 POWERED BY REACH LA ANGELS\nReach LA Angels continues to spotlight the best events\, nightlife experiences\, and cultural moments across Los Angeles. Stay connected with us for more Spring events\, community highlights\, and curated experiences throughout the city. \n👉 Advertise with us\n👉 Explore more LA event articles\n👉 Submit your event 24/7 on Reach LA Angels Website \n\nPublished by Erica “EMissyK” Lindsay — your guide to the whimsical people\, places\, and Spring experiences brightening LA’s cultural pulse. 🪻
URL:https://reachlaangels.com/event-2/spring-fling-6-mad-hatter-edition-dtl/
LOCATION:Hotel Figueroa – The Unbound Collection by Hyatt\, 939 S. Figueroa St.\, Los Angeles\, CA\, 90015\, United States
CATEGORIES:Downtown LA Events,Nightlife & Social Events
ATTACH;FMTTYPE=image/jpeg:https://reachlaangels.com/wp-content/uploads/2026/03/att.Z6HBWB8WbW9ssV2_HAiQUVdHVuR2do74Y2Zp-gDhkM4.jpg
END:VEVENT
BEGIN:VEVENT
DTSTART;TZID=America/Los_Angeles:20260523T160000
DTEND;TZID=America/Los_Angeles:20260524T000000
DTSTAMP:20260424T190121
CREATED:20260318T135307Z
LAST-MODIFIED:20260327T081202Z
UID:10000380-1779552000-1779580800@reachlaangels.com
SUMMARY:ALL WHITE ATTIRE ROOFTOP DAY PARTY — DTLA
DESCRIPTION:  \n\n🤍 ALL WHITE ATTIRE ROOFTOP DAY PARTY — DTLA\nPresented by Ricky Johnson\, Mark Bruce\, King Charles\, Darryl DP Pitts\, LA_REGG_ENT\n  \nSpring in Los Angeles means rooftop season — and this Memorial Day Weekend\, the city’s mature\, stylish crowd is heading upward for an elevated celebration in the heart of DTLA. The All White Attire Rooftop Day Party brings together elegance\, sunshine\, and grown‑folk energy for a day party that sets itself apart from every other white party in the city. \nThis isn’t just another event — it’s a rooftop experience designed for LA’s 35+ social community\, where sophistication meets skyline. \n\n🤍 THE EVENT\nThe All White Attire Rooftop Day Party is a chic\, sun‑kissed celebration featuring premium vibes\, beautiful people\, and a strictly upscale white‑attire dress code. Expect a stylish crowd\, curated music\, and a rooftop atmosphere that blends luxury with LA’s signature cultural flair. \n \n\n🌆 THE CITY / COMMUNITY — DOWNTOWN LOS ANGELES (DTLA)\nDTLA continues to be the pulse of LA’s social scene\, and this event taps directly into that energy. With its skyline views\, walkable nightlife\, and vibrant community\, Downtown LA is the perfect backdrop for a mature\, fashionable rooftop celebration. \n  \n\n🏨 THE VENUE — HARBOR HOUSE\nHarbor House LA\n1000 Wilshire Blvd\, Los Angeles\, CA 90017\nParking: $12\nFood available on site\nCigar patio available \nHarbor House offers a stunning rooftop setting with panoramic city views — the ideal location for an all‑white\, sun‑drenched day party. Its elevated atmosphere and central DTLA location make it a standout venue for the season. \nHarbor House LA Website \n \n\n🎧 FEATURED TALENT & KEY EVENT DETAILS\n✨ Saturday\, May 23rd — Memorial Day Weekend\n✨ 4 PM – Until\n✨ Music by DJ Paradise & DJ Teddy B\n✨ Food Available\n✨ Cigar Patio On‑Site\n✨ $12 Parking\n✨ Strict All‑White Attire \nHosted by: Ricky Johnson\, Mark Bruce\, King Charles\, Darryl DP Pitts\, LA_REGG_ENT \n\n🎟️ WHERE TO GET TICKETS\nTickets will be available on Eventbrite.\nEventbrite Tickets \nEarly purchase is recommended — rooftop events with a 35+ crowd sell out quickly. \n  \n\n🤍 WHAT SETS THIS EVENT APART\nWhile LA hosts many white parties during Spring and Memorial Day Weekend\, this one stands out because: \n\nIt’s a true rooftop experience in the center of DTLA\nIt attracts a mature 35+ crowd — stylish\, grown\, and ready to vibe\nIt blends elegance\, skyline views\, and curated music\nIt offers a cigar patio\, food options\, and a premium atmosphere\nIt’s designed for people who appreciate quality\, ambiance\, and community\n\nThis is the white party for those who want sophistication\, not chaos. \n  \n  \n🤍 POWERED BY REACH LA ANGELS\nYour hub for LA’s best events\, nightlife\, and cultural experiences. Stay connected with us for more curated Spring and Summer happenings across the city. \n👉 Advertise with us\n👉 Explore more LA event articles\n👉 Submit your event 24/7 \, we offer Ticket Sales\, RSVP\, Series Ticket Options👉🏾  Submit your Event \n\nPublished by Erica “EMissyK” Lindsay — your guide to the people\, places\, and Spring experiences blossoming across LA’s cultural pulse.
URL:https://reachlaangels.com/event-2/all-white-attire-rooftop-day-party-dtla/
LOCATION:Harbor House LA\, 1000 Wilshire Blvd.\, Los Angeles\, CA\, 90017\, United States
CATEGORIES:Downtown LA Events,Nightlife & Social Events
ATTACH;FMTTYPE=image/jpeg:https://reachlaangels.com/wp-content/uploads/2026/03/79A7D688-DBBD-451F-AA05-C89B307E45D9.jpg
END:VEVENT
BEGIN:VEVENT
DTSTART;TZID=America/Los_Angeles:20260801T160000
DTEND;TZID=America/Los_Angeles:20260801T220000
DTSTAMP:20260424T190121
CREATED:20260328T060703Z
LAST-MODIFIED:20260328T063948Z
UID:10000405-1785600000-1785621600@reachlaangels.com
SUMMARY:Afro-Latino Culture Fest-Los Angeles
DESCRIPTION:4th Annual Afro‑Latino Culture Fest Returns to DTLA for a Powerful Celebration of Rhythm\, Art & Community\nLos Angeles\, get ready — the 4th Annual Afro‑Latino Culture Fest is back\, bringing the heartbeat of the diaspora to the center of the city. This free community festival blends music\, dance\, food\, art\, and cultural storytelling into one unforgettable summer experience. \nSaturday\, August 1\, 2026 | 4PM–10PM\nLA Plaza de Cultura y Artes — Downtown Los Angeles\n(Directly across from Union Station — public transit highly recommended) \n\nA Celebration Rooted in Culture & Community\nThe Afro‑Latino Culture Fest continues its mission to uplift the voices\, traditions\, and artistry of Afro‑Latino communities across the Americas. Expect a full sensory experience that honors heritage while celebrating the future. \n\n🎤 Live Performances & Cultural Showcases\nFrom traditional rhythms to contemporary Afro‑Latino sounds\, the festival lineup brings together artists who represent the global influence of the diaspora.\n• Live music\n• Dance showcases\n• Spoken word & cultural storytelling \n\n🎨 Art\, Food & Immersive Experiences\nThis year’s festival expands its cultural footprint with interactive art activations\, community murals\, and hands‑on exhibits.\n• Live painting & cultural installations\n• Afro‑Latino cuisine from across Latin America & the Caribbean\n• Tropical cocktails + refreshing summer sips\n• Family‑friendly cultural activities\n• A curated vendor marketplace featuring Afro‑Latino makers\, artists & small businesses \n\n📍 Venue Spotlight: LA Plaza de Cultura y Artes\nLocated in the heart of DTLA\, LA Plaza de Cultura y Artes is one of the city’s most important cultural landmarks. Its open‑air courtyard\, historic architecture\, and proximity to Union Station make it the perfect home for a festival rooted in heritage\, community\, and celebration. \n\n🎬 Event Producer Highlight\nThe Afro‑Latino Culture Fest is produced by a team dedicated to cultural preservation\, community empowerment\, and authentic representation. Their commitment to uplifting Afro‑Latino voices continues to make this festival one of LA’s most anticipated cultural events of the summer. \n\n💥 Free for the Community\nThis event is 100% free\, but the impact is priceless. Come ready to dance\, eat\, learn\, and celebrate the beauty and diversity of Afro‑Latino identity. \n\n🚨 Vendors\, Sponsors & Partners — Now Open\nIf you’re a creator\, business\, or organization looking to connect with a vibrant\, engaged community\, this is your moment.\nApply at AfroLatinoCultureFest.com \n\n❤️ Support the Culture\nThe festival is free\, but the work behind it is real.\nIf you believe in visibility\, representation\, and cultural pride\, consider donating. Every contribution helps keep this celebration alive for future generations. \n\n🔗 Explore More Events Across Los Angeles\nLooking for more cultural experiences\, nightlife\, and community‑centered events?\n👉 Browse upcoming events at Reach LA Angels Events\n👉 Have an event to promote? Publish it on our site 24/7. 👉🏾 Publish your event \n\nPublished by Erica “EMissyK” Lindsay – Reach LA Angels.\nElevating the people\, places\, and experiences shaping LA’s cultural pulse.
URL:https://reachlaangels.com/event-2/afro-latino-culture-fest-los-angeles/
LOCATION:LA Plaza de Cultura y Artes\, 501 North Main Street\, Los Angeles\, CA\, 90012\, United States
CATEGORIES:Downtown LA Events,Family-Friendly Events,Food & Culinary Events,Free & Low-Cost Events
ATTACH;FMTTYPE=image/jpeg:https://reachlaangels.com/wp-content/uploads/2026/03/fd34b557dc07d413299e1feefc4b7ae0-scaled.jpg
END:VEVENT
END:VCALENDAR